flight 130874 freebsd-master real [real]
http://logs.test-lab.xenproject.org/osstest/logs/130874/

Perfect :-)
All tests in this flight passed as required
version targeted for testing:
 freebsd              8a8f133349b01913412f09f2cf494bc72daf0b46
baseline version:
 freebsd              b1f31943cb61465b80f786de48501e2fb03e1b61

Last test of basis   130849  2018-11-28 12:49:34 Z    3 days
Testing same since   130874  2018-11-30 14:18:18 Z    1 days    1 attempts

------------------------------------------------------------
People who touched revisions under test:
  ae <a...@freebsd.org>
  arybchik <arybc...@freebsd.org>
  brooks <bro...@freebsd.org>
  cy <c...@freebsd.org>
  eugen <eu...@freebsd.org>
  glebius <gleb...@freebsd.org>
  ian <i...@freebsd.org>
  jhb <j...@freebsd.org>
  jhibbits <jhibb...@freebsd.org>
  jilles <jil...@freebsd.org>
  kib <k...@freebsd.org>
  manu <m...@freebsd.org>
  markj <ma...@freebsd.org>
  mjg <m...@freebsd.org>
  sbruno <sbr...@freebsd.org>
  shurd <sh...@freebsd.org>
  sobomax <sobo...@freebsd.org>
  trasz <tr...@freebsd.org>
  tsoome <tso...@freebsd.org>
  tuexen <tue...@freebsd.org>
  vangyzen <vangy...@freebsd.org>
  vmaffione <vmaffi...@freebsd.org>

jobs:
 build-amd64-freebsd-again                                    pass    
 build-amd64-freebsd                                          pass    
 build-amd64-xen-freebsd                                      pass    


------------------------------------------------------------
sg-report-flight on osstest.test-lab.xenproject.org
logs: /home/logs/logs
images: /home/logs/images

Logs, config files, etc. are available at
    http://logs.test-lab.xenproject.org/osstest/logs

Explanation of these reports, and of osstest in general, is at
    http://xenbits.xen.org/gitweb/?p=osstest.git;a=blob;f=README.email;hb=master
    http://xenbits.xen.org/gitweb/?p=osstest.git;a=blob;f=README;hb=master

Test harness code can be found at
    http://xenbits.xen.org/gitweb?p=osstest.git;a=summary


Pushing revision :

To xenbits.xen.org:/home/xen/git/freebsd.git
   b1f31943cb6..8a8f133349b  8a8f133349b01913412f09f2cf494bc72daf0b46 -> 
tested/master

_______________________________________________
Xen-devel mailing list
Xen-devel@lists.xenproject.org
https://lists.xenproject.org/mailman/listinfo/xen-devel

Reply via email to