flight 130913 xen-unstable-coverity real [real]
http://logs.test-lab.xenproject.org/osstest/logs/130913/

Perfect :-)
All tests in this flight passed as required
version targeted for testing:
 xen                  82855aba5bf91e50c81526167c11d4aeaf665e66
baseline version:
 xen                  901abfef5de149546b16fba6f4d5bd7def08c672

Last test of basis   130392  2018-11-18 09:18:46 Z   14 days
Failing since        130846  2018-11-28 09:18:47 Z    4 days    2 attempts
Testing same since   130913  2018-12-02 09:18:21 Z    0 days    1 attempts

------------------------------------------------------------
People who touched revisions under test:
  Andrew Cooper <andrew.coop...@citrix.com>
  Andrii Anisov <andrii_ani...@epam.com>
  Brian Woods <brian.wo...@amd.com>
  Dario Faggioli <dfaggi...@suse.com>
  Doug Goldstein <car...@cardoe.com>
  George Dunlap <george.dun...@citrix.com>
  Ian Jackson <ian.jack...@eu.citrix.com>
  Jan Beulich <jbeul...@suse.com>
  Juergen Gross <jgr...@suse.com>
  Julien Grall <julien.gr...@arm.com>
  Kevin Tian <kevin.t...@intel.com>
  Len Brown <len.br...@intel.com>
  Norbert Manthey <nmant...@amazon.de>
  Olaf Hering <o...@aepfle.de>
  Paul Durrant <paul.durr...@citrix.com>
  Rafael J. Wysocki <rafael.j.wyso...@intel.com>
  Razvan Cojocaru <rcojoc...@bitdefender.com>
  Roger Pau Monne <roger....@citrix.com>
  Roger Pau Monné <roger....@citrix.com>
  Sergey Dyasli <sergey.dya...@citrix.com>
  Stefano Stabellini <sstabell...@kernel.org>
  Tamas K Lengyel <ta...@tklengyel.com>
  Tim Deegan <t...@xen.org>
  Wei Liu <wei.l...@citrix.com>

jobs:
 coverity-amd64                                               pass    


------------------------------------------------------------
sg-report-flight on osstest.test-lab.xenproject.org
logs: /home/logs/logs
images: /home/logs/images

Logs, config files, etc. are available at
    http://logs.test-lab.xenproject.org/osstest/logs

Explanation of these reports, and of osstest in general, is at
    http://xenbits.xen.org/gitweb/?p=osstest.git;a=blob;f=README.email;hb=master
    http://xenbits.xen.org/gitweb/?p=osstest.git;a=blob;f=README;hb=master

Test harness code can be found at
    http://xenbits.xen.org/gitweb?p=osstest.git;a=summary


Pushing revision :

To xenbits.xen.org:/home/xen/git/xen.git
   901abfef5d..82855aba5b  82855aba5bf91e50c81526167c11d4aeaf665e66 -> 
coverity-tested/smoke

_______________________________________________
Xen-devel mailing list
Xen-devel@lists.xenproject.org
https://lists.xenproject.org/mailman/listinfo/xen-devel

Reply via email to