flight 127475 freebsd-master real [real] http://logs.test-lab.xenproject.org/osstest/logs/127475/
Perfect :-) All tests in this flight passed as required version targeted for testing: freebsd 4e22ee3754200e9ce86c4820d484dfeb94041c56 baseline version: freebsd 7b6d891a9f0e73952e081c2c41469cdeba34eea8 Last test of basis 127373 2018-09-07 09:18:57 Z 3 days Testing same since 127475 2018-09-10 09:19:51 Z 0 days 1 attempts ------------------------------------------------------------ People who touched revisions under test: delphij <delp...@freebsd.org> emaste <ema...@freebsd.org> hselasky <hsela...@freebsd.org> kib <k...@freebsd.org> markj <ma...@freebsd.org> rgrimes <rgri...@freebsd.org> tsoome <tso...@freebsd.org> jobs: build-amd64-freebsd-again pass build-amd64-freebsd pass build-amd64-xen-freebsd pass ------------------------------------------------------------ sg-report-flight on osstest.test-lab.xenproject.org logs: /home/logs/logs images: /home/logs/images Logs, config files, etc. are available at http://logs.test-lab.xenproject.org/osstest/logs Explanation of these reports, and of osstest in general, is at http://xenbits.xen.org/gitweb/?p=osstest.git;a=blob;f=README.email;hb=master http://xenbits.xen.org/gitweb/?p=osstest.git;a=blob;f=README;hb=master Test harness code can be found at http://xenbits.xen.org/gitweb?p=osstest.git;a=summary Pushing revision : To xenbits.xen.org:/home/xen/git/freebsd.git 7b6d891a9f0..4e22ee37542 4e22ee3754200e9ce86c4820d484dfeb94041c56 -> tested/master _______________________________________________ Xen-devel mailing list Xen-devel@lists.xenproject.org https://lists.xenproject.org/mailman/listinfo/xen-devel