flight 127470 ovmf real [real] http://logs.test-lab.xenproject.org/osstest/logs/127470/
Perfect :-) All tests in this flight passed as required version targeted for testing: ovmf f4eaaf1a6d50c761e2af9a6dd0976fb8a3bd3c08 baseline version: ovmf 4b2dc555d8a67e715d8fafab4c9131791d31a788 Last test of basis 127461 2018-09-10 00:40:52 Z 0 days Testing same since 127470 2018-09-10 07:43:57 Z 0 days 1 attempts ------------------------------------------------------------ People who touched revisions under test: Jian J Wang <jian.j.w...@intel.com> Ruiyu Ni <ruiyu...@intel.com> Zhang Chao B <chao.b.zh...@intel.com> Zhang, Chao B <chao.b.zh...@intel.com> jobs: build-amd64-xsm pass build-i386-xsm pass build-amd64 pass build-i386 pass build-amd64-libvirt pass build-i386-libvirt pass build-amd64-pvops pass build-i386-pvops pass test-amd64-amd64-xl-qemuu-ovmf-amd64 pass test-amd64-i386-xl-qemuu-ovmf-amd64 pass ------------------------------------------------------------ sg-report-flight on osstest.test-lab.xenproject.org logs: /home/logs/logs images: /home/logs/images Logs, config files, etc. are available at http://logs.test-lab.xenproject.org/osstest/logs Explanation of these reports, and of osstest in general, is at http://xenbits.xen.org/gitweb/?p=osstest.git;a=blob;f=README.email;hb=master http://xenbits.xen.org/gitweb/?p=osstest.git;a=blob;f=README;hb=master Test harness code can be found at http://xenbits.xen.org/gitweb?p=osstest.git;a=summary Pushing revision : To xenbits.xen.org:/home/xen/git/osstest/ovmf.git 4b2dc555d8..f4eaaf1a6d f4eaaf1a6d50c761e2af9a6dd0976fb8a3bd3c08 -> xen-tested-master _______________________________________________ Xen-devel mailing list Xen-devel@lists.xenproject.org https://lists.xenproject.org/mailman/listinfo/xen-devel