flight 162956 ovmf running [real]
http://logs.test-lab.xenproject.org/osstest/logs/162956/

Failures and problems with tests :-(

Tests which did not succeed and are blocking,
including tests which could not be run:
 build-amd64-pvops               <job status>                 broken
 build-i386                      <job status>                 broken
 build-i386-pvops                <job status>                 broken
 build-i386-xsm                  <job status>                 broken
 build-i386                    4 host-install(4)        broken REGR. vs. 162359
 build-i386-pvops              4 host-install(4)        broken REGR. vs. 162359
 build-i386-xsm                4 host-install(4)        broken REGR. vs. 162359
 build-amd64-pvops             4 host-install(4)        broken REGR. vs. 162359
 build-amd64-libvirt             <none executed>              queued
 test-amd64-amd64-xl-qemuu-ovmf-amd64    <none executed>              queued
 test-amd64-i386-xl-qemuu-ovmf-amd64    <none executed>              queued
 build-amd64-xsm               2 hosts-allocate               running
 build-amd64                   2 hosts-allocate               running

Tests which did not succeed, but are not blocking:
 build-i386-libvirt            1 build-check(1)               blocked  n/a

version targeted for testing:
 ovmf                 6cfeeb71c43173d657d86d4a38ed655b0fc5f277
baseline version:
 ovmf                 c410ad4da4b7785170d3d42a3ba190c2caac6feb

Last test of basis   162359  2021-06-04 03:40:08 Z   18 days
Failing since        162368  2021-06-04 15:42:59 Z   17 days   38 attempts
Testing same since   162938  2021-06-21 11:33:16 Z    0 days    1 attempts

------------------------------------------------------------
People who touched revisions under test:
  Ard Biesheuvel <a...@kernel.org>
  Daoxiang Li <daoxiang...@intel.com>
  gaoliming <gaolim...@byosoft.com.cn>
  Hao A Wu <hao.a...@intel.com>
  Jian J Wang <jian.j.w...@intel.com>
  Kaaira Gupta <kaaira7...@gmail.com>
  Kun Qin <kuqi...@gmail.com>
  Laszlo Ersek <ler...@redhat.com>
  Leif Lindholm <l...@nuviainc.com>
  Liming Gao <gaolim...@byosoft.com.cn>
  Maurice Ma <maurice...@intel.com>
  Ni, Ray <ray...@intel.com>
  Patrick Rudolph <patrick.rudo...@9elements.com>
  Ray Ni <ray...@intel.com>
  Rebecca Cran <rebe...@nuviainc.com>
  Scottie Kuo <scottie....@intel.com>
  Sean Brogan <sean.bro...@microsoft.com>
  Sean Brogan <spbro...@live.com>
  Sumana Venur <sumana.ve...@intel.com>
  Zhiguang Liu <zhiguang....@intel.com>

jobs:
 build-amd64-xsm                                              preparing
 build-i386-xsm                                               broken  
 build-amd64                                                  preparing
 build-i386                                                   broken  
 build-amd64-libvirt                                          queued  
 build-i386-libvirt                                           blocked 
 build-amd64-pvops                                            broken  
 build-i386-pvops                                             broken  
 test-amd64-amd64-xl-qemuu-ovmf-amd64                         queued  
 test-amd64-i386-xl-qemuu-ovmf-amd64                          queued  


------------------------------------------------------------
sg-report-flight on osstest.test-lab.xenproject.org
logs: /home/logs/logs
images: /home/logs/images

Logs, config files, etc. are available at
    http://logs.test-lab.xenproject.org/osstest/logs

Explanation of these reports, and of osstest in general, is at
    http://xenbits.xen.org/gitweb/?p=osstest.git;a=blob;f=README.email;hb=master
    http://xenbits.xen.org/gitweb/?p=osstest.git;a=blob;f=README;hb=master

Test harness code can be found at
    http://xenbits.xen.org/gitweb?p=osstest.git;a=summary

broken-job build-amd64-libvirt queued
broken-job build-amd64-pvops broken
broken-job build-i386 broken
broken-job build-i386-pvops broken
broken-job build-i386-xsm broken
broken-job test-amd64-amd64-xl-qemuu-ovmf-amd64 queued
broken-job test-amd64-i386-xl-qemuu-ovmf-amd64 queued
broken-step build-i386 host-install(4)
broken-step build-i386-pvops host-install(4)
broken-step build-i386-xsm host-install(4)
broken-step build-amd64-pvops host-install(4)

Not pushing.

(No revision log; it would be 2193 lines long.)

Reply via email to