flight 180542 ovmf real [real] http://logs.test-lab.xenproject.org/osstest/logs/180542/
Perfect :-) All tests in this flight passed as required version targeted for testing: ovmf 94c802e108a082d6f74c854bea8bd98fe7808453 baseline version: ovmf ff7cb2d7c98f8b832180e054848459fc24a0910a Last test of basis 180538 2023-05-05 04:12:21 Z 0 days Testing same since 180542 2023-05-05 08:42:19 Z 0 days 1 attempts ------------------------------------------------------------ People who touched revisions under test: Ard Biesheuvel <a...@kernel.org> Liming Gao <gaolim...@byosoft.com.cn> Michael Kubacki <michael.kuba...@microsoft.com> jobs: build-amd64-xsm pass build-i386-xsm pass build-amd64 pass build-i386 pass build-amd64-libvirt pass build-i386-libvirt pass build-amd64-pvops pass build-i386-pvops pass test-amd64-amd64-xl-qemuu-ovmf-amd64 pass test-amd64-i386-xl-qemuu-ovmf-amd64 pass ------------------------------------------------------------ sg-report-flight on osstest.test-lab.xenproject.org logs: /home/logs/logs images: /home/logs/images Logs, config files, etc. are available at http://logs.test-lab.xenproject.org/osstest/logs Explanation of these reports, and of osstest in general, is at http://xenbits.xen.org/gitweb/?p=osstest.git;a=blob;f=README.email;hb=master http://xenbits.xen.org/gitweb/?p=osstest.git;a=blob;f=README;hb=master Test harness code can be found at http://xenbits.xen.org/gitweb?p=osstest.git;a=summary Pushing revision : To xenbits.xen.org:/home/xen/git/osstest/ovmf.git ff7cb2d7c9..94c802e108 94c802e108a082d6f74c854bea8bd98fe7808453 -> xen-tested-master