This run is configured for baseline tests only.

flight 71583 linux-3.10 real [real]
http://osstest.xs.citrite.net/~osstest/testlogs/logs/71583/

Failures and problems with tests :-(

Tests which did not succeed and are blocking,
including tests which could not be run:
 build-i386-pvops              3 host-install(3)         broken REGR. vs. 68548
 build-i386-xsm                3 host-install(3)         broken REGR. vs. 68548
 build-i386                    3 host-install(3)         broken REGR. vs. 68548
 build-amd64                   3 host-install(3)         broken REGR. vs. 68548
 build-amd64-pvops             3 host-install(3)         broken REGR. vs. 68548
 build-amd64-xsm               3 host-install(3)         broken REGR. vs. 68548

Tests which did not succeed, but are not blocking:
 test-amd64-amd64-xl-qemuu-debianhvm-amd64  1 build-check(1)        blocked n/a
 test-amd64-i386-freebsd10-i386  1 build-check(1)               blocked  n/a
 test-amd64-amd64-qemuu-nested-intel  1 build-check(1)              blocked n/a
 test-amd64-i386-libvirt-qemuu-debianhvm-amd64-xsm 1 build-check(1) blocked n/a
 test-amd64-i386-xl-qemuu-debianhvm-amd64-xsm  1 build-check(1)     blocked n/a
 test-amd64-i386-xl-qemut-debianhvm-amd64-xsm  1 build-check(1)     blocked n/a
 test-amd64-amd64-xl-qemut-stubdom-debianhvm-amd64-xsm 1 build-check(1) blocked 
n/a
 test-amd64-i386-xl-qemuu-winxpsp3-vcpus1  1 build-check(1)         blocked n/a
 test-amd64-i386-libvirt-xsm   1 build-check(1)               blocked  n/a
 test-amd64-amd64-xl-multivcpu  1 build-check(1)               blocked  n/a
 test-amd64-i386-xl-qemuu-winxpsp3  1 build-check(1)               blocked  n/a
 test-amd64-amd64-libvirt      1 build-check(1)               blocked  n/a
 test-amd64-i386-xl-qemut-winxpsp3  1 build-check(1)               blocked  n/a
 test-amd64-amd64-xl-pvh-amd   1 build-check(1)               blocked  n/a
 test-amd64-i386-xl-qemut-debianhvm-amd64  1 build-check(1)         blocked n/a
 test-amd64-i386-qemut-rhel6hvm-intel  1 build-check(1)             blocked n/a
 test-amd64-i386-freebsd10-amd64  1 build-check(1)               blocked  n/a
 test-amd64-amd64-pair         1 build-check(1)               blocked  n/a
 build-i386-rumprun            1 build-check(1)               blocked  n/a
 test-amd64-amd64-xl-qemuu-win7-amd64  1 build-check(1)             blocked n/a
 test-amd64-amd64-libvirt-qemuu-debianhvm-amd64-xsm 1 build-check(1) blocked n/a
 test-amd64-amd64-pygrub       1 build-check(1)               blocked  n/a
 test-amd64-amd64-xl-qemuu-winxpsp3  1 build-check(1)               blocked n/a
 test-amd64-amd64-xl-qcow2     1 build-check(1)               blocked  n/a
 test-amd64-amd64-amd64-pvgrub  1 build-check(1)               blocked  n/a
 test-amd64-amd64-xl-qemut-win7-amd64  1 build-check(1)             blocked n/a
 test-amd64-i386-xl-qemuu-debianhvm-amd64  1 build-check(1)         blocked n/a
 build-amd64-rumprun           1 build-check(1)               blocked  n/a
 test-amd64-i386-xl            1 build-check(1)               blocked  n/a
 build-i386-libvirt            1 build-check(1)               blocked  n/a
 test-amd64-i386-libvirt-pair  1 build-check(1)               blocked  n/a
 test-amd64-amd64-xl-qemuu-ovmf-amd64  1 build-check(1)             blocked n/a
 test-amd64-amd64-libvirt-vhd  1 build-check(1)               blocked  n/a
 test-amd64-amd64-xl-credit2   1 build-check(1)               blocked  n/a
 test-amd64-i386-xl-xsm        1 build-check(1)               blocked  n/a
 build-amd64-libvirt           1 build-check(1)               blocked  n/a
 test-amd64-amd64-xl-qemuu-debianhvm-amd64-xsm  1 build-check(1)    blocked n/a
 test-amd64-amd64-rumprun-amd64  1 build-check(1)               blocked  n/a
 test-amd64-i386-xl-qemuu-ovmf-amd64  1 build-check(1)              blocked n/a
 test-amd64-amd64-xl-pvh-intel  1 build-check(1)               blocked  n/a
 test-amd64-i386-xl-raw        1 build-check(1)               blocked  n/a
 test-amd64-i386-qemuu-rhel6hvm-amd  1 build-check(1)               blocked n/a
 test-amd64-amd64-i386-pvgrub  1 build-check(1)               blocked  n/a
 test-amd64-amd64-xl-qemut-winxpsp3  1 build-check(1)               blocked n/a
 test-amd64-i386-libvirt       1 build-check(1)               blocked  n/a
 test-amd64-amd64-libvirt-pair  1 build-check(1)               blocked  n/a
 test-amd64-amd64-libvirt-xsm  1 build-check(1)               blocked  n/a
 test-amd64-amd64-xl-xsm       1 build-check(1)               blocked  n/a
 test-amd64-i386-qemuu-rhel6hvm-intel  1 build-check(1)             blocked n/a
 test-amd64-i386-xl-qemut-winxpsp3-vcpus1  1 build-check(1)         blocked n/a
 test-amd64-i386-xl-qemuu-win7-amd64  1 build-check(1)              blocked n/a
 test-amd64-amd64-xl           1 build-check(1)               blocked  n/a
 test-amd64-i386-pair          1 build-check(1)               blocked  n/a
 test-amd64-i386-rumprun-i386  1 build-check(1)               blocked  n/a
 test-amd64-amd64-qemuu-nested-amd  1 build-check(1)               blocked  n/a
 test-amd64-i386-xl-qemut-stubdom-debianhvm-amd64-xsm 1 build-check(1) blocked 
n/a
 test-amd64-i386-xl-qemut-win7-amd64  1 build-check(1)              blocked n/a
 test-amd64-i386-qemut-rhel6hvm-amd  1 build-check(1)               blocked n/a
 test-amd64-amd64-xl-qemut-debianhvm-amd64  1 build-check(1)        blocked n/a
 test-amd64-amd64-xl-qemut-debianhvm-amd64-xsm  1 build-check(1)    blocked n/a
 test-amd64-amd64-xl-rtds      1 build-check(1)               blocked  n/a

version targeted for testing:
 linux                a07ea939d7e0406e97739c18e2db6b402eb04cdc
baseline version:
 linux                ec55e7c2bf49a426b6f8204505bd267c77554d37

Last test of basis    68548  2017-02-11 03:56:07 Z  127 days
Testing same since    71583  2017-06-18 16:20:03 Z    0 days    1 attempts

------------------------------------------------------------
People who touched revisions under test:
  "HUANG Weller (CM/ESW12-CN)" <weller.hu...@cn.bosch.com>
  Adamson, Andy <william.adam...@netapp.com>
  Al Stone <a...@redhat.com>
  Al Viro <v...@zeniv.linux.org.uk>
  Alan Stern <st...@rowland.harvard.edu>
  Aleksa Sarai <asa...@suse.de>
  Alex Porosanu <alexandru.poros...@nxp.com>
  Alexander Popov <alex.po...@linux.com>
  Alexey Kodanev <alexey.koda...@oracle.com>
  Amos Kong <ak...@redhat.com>
  Ander Conselvan de Oliveira <ander.conselvan.de.olive...@intel.com>
  Andreas Gruenbacher <agrue...@redhat.com>
  Andrew Lunn <and...@lunn.ch>
  Andrew Morton <a...@linux-foundation.org>
  Andrey Konovalov <andreyk...@google.com>
  Andrey Ryabinin <aryabi...@virtuozzo.com>
  Andrey Ulanov <andr...@google.com>
  Andy Shevchenko <andriy.shevche...@linux.intel.com>
  Andy Whitcroft <a...@canonical.com>
  Anna Schumaker <anna.schuma...@netapp.com>
  Anoob Soman <anoob.so...@citrix.com>
  Arnaldo Carvalho de Melo <a...@redhat.com>
  Arnd Bergmann <a...@arndb.de>
  Bart Van Assche <bart.vanass...@sandisk.com>
  Ben Hutchings <b...@decadent.org.uk>
  Ben Segall <bseg...@google.com>
  Benjamin Block <bbl...@linux.vnet.ibm.com>
  Benjamin Herrenschmidt <b...@kernel.crashing.org>
  Bin Liu <b-...@ti.com>
  Boris Brezillon <boris.brezil...@free-electrons.com>
  Boris Ostrovsky <boris.ostrov...@oracle.com>
  Borislav Petkov <b...@suse.de>
  Brad Mouring <brad.mour...@ni.com>
  bseg...@google.com <bseg...@google.com>
  Catalin Marinas <catalin.mari...@arm.com>
  Chandan Rajendra <chan...@linux.vnet.ibm.com>
  Charles Keepax <ckee...@opensource.wolfsonmicro.com>
  Chris Blake <chrisrblak...@gmail.com>
  Christian Lamparter <chunk...@googlemail.com>
  Colin Ian King <colin.k...@canonical.com>
  Cong Wang <xiyou.wangc...@gmail.com>
  Dan Carpenter <dan.carpen...@oracle.com>
  Dan Streetman <dan.street...@canonical.com>
  Dan Streetman <ddstr...@ieee.org>
  Daniel Borkmann <dan...@iogearbox.net>
  Daniel Borkmann <dbork...@redhat.com>
  Daniel Jurgens <dani...@mellanox.com>
  Daniel Lezcano <daniel.lezc...@linaro.org>
  Daniel Vetter <daniel.vet...@ffwll.ch>
  Darrick J. Wong <darrick.w...@oracle.com>
  Dave Jones <da...@codemonkey.org.uk>
  Dave Martin <dave.mar...@arm.com>
  David Daney <david.da...@cavium.com>
  David Hildenbrand <da...@redhat.com>
  David Howells <dhowe...@redhat.com>
  David S. Miller <da...@davemloft.net>
  Dmitry Torokhov <dmitry.torok...@gmail.com>
  Doug Ledford <dledf...@redhat.com>
  Erez Shitrit <ere...@mellanox.com>
  Eric Biggers <ebigg...@google.com>
  Eric Dumazet <eduma...@google.com>
  Eugenia Emantayev <euge...@mellanox.com>
  Eva Rachel Retuya <eraret...@gmail.com>
  Felipe Balbi <felipe.ba...@linux.intel.com>
  Feras Daoud <fera...@mellanox.com>
  Filipe Manana <fdman...@suse.com>
  Florian Fainelli <f.faine...@gmail.com>
  Florian Westphal <f...@strlen.de>
  Geert Uytterhoeven <ge...@linux-m68k.org>
  Gleb Natapov <g...@redhat.com>
  Greg Kroah-Hartman <gre...@linuxfoundation.org>
  Gu Zheng <guzhe...@huawei.com>
  Guennadi Liakhovetski <g.liakhovet...@gmx.de>
  Guennadi Liakhovetski <guennadi.liakhovet...@intel.com>
  Guenter Roeck <li...@roeck-us.net>
  Guillaume Nault <g.na...@alphalink.fr>
  Hauke Mehrtens <ha...@hauke-m.de>
  Heiko Carstens <heiko.carst...@de.ibm.com>
  Heiko Przybyl <lil_...@web.de>
  Herbert Xu <herb...@gondor.apana.org.au>
  Hongxu Jia <hongxu....@windriver.com>
  Horia Geantă <horia.gea...@nxp.com>
  Huang Rui <ray.hu...@amd.com>
  Ilya Dryomov <idryo...@gmail.com>
  Ingo Molnar <mi...@kernel.org>
  J. Bruce Fields <bfie...@redhat.com>
  Jack Morgenstein <ja...@dev.mellanox.co.il>
  Jaegeuk Kim <jaeg...@kernel.org>
  Jamal Hadi Salim <j...@mojatatu.com>
  James Cowgill <james.cowg...@imgtec.com>
  James Hogan <james.ho...@imgtec.com>
  James Morris <james.l.mor...@oracle.com>
  James Yonan <ja...@openvpn.net>
  Jan Kara <j...@suse.cz>
  Jani Nikula <jani.nik...@intel.com>
  Jason Gunthorpe <jguntho...@obsidianresearch.com>
  Jens Axboe <ax...@fb.com>
  Jesper Nilsson <jesper.nils...@axis.com>
  Jiri Benc <jb...@redhat.com>
  Jiri Slaby <jsl...@suse.cz>
  Joel Stanley <j...@jms.id.au>
  Joerg Roedel <jroe...@suse.de>
  Johan Hovold <jo...@kernel.org>
  Johannes Berg <johannes.b...@intel.com>
  John Garry <john.ga...@huawei.com>
  Jon Maxwell <jmaxwel...@gmail.com>
  Jonathan Cameron <ji...@kernel.org>
  Julian Anastasov <j...@ssi.bg>
  Julian Wiedmann <j...@linux.vnet.ibm.com>
  K. Y. Srinivasan <k...@microsoft.com>
  Kalle Valo <kv...@qca.qualcomm.com>
  Kees Cook <keesc...@chromium.org>
  Keno Fischer <k...@juliacomputing.com>
  Kirill A. Shutemov <kirill.shute...@linux.intel.com>
  Konrad Rzeszutek Wilk <konrad.w...@oracle.com>
  Krzysztof Opasiak <k.opas...@samsung.com>
  Kyle Roeschley <kyle.roesch...@ni.com>
  Larry Finger <larry.fin...@lwfinger.net>
  Lars-Peter Clausen <l...@metafoo.de>
  Laurent Pinchart <laurent.pinch...@ideasonboard.com>
  Lee Jones <lee.jo...@linaro.org>
  Leon Romanovsky <l...@kernel.org>
  Li RongQing <roy.qing...@gmail.com>
  Linus Torvalds <torva...@linux-foundation.org>
  Linus Walleij <linus.wall...@linaro.org>
  Lisandro Damián Nicanor Pérez Meyer <lisan...@debian.org>
  Ludovic Desroches <ludovic.desroc...@atmel.com>
  Lukasz Odzioba <lukasz.odzi...@intel.com>
  Maor Gottlieb <ma...@mellanox.com>
  Marcelo Henrique Cerri <marcelo.ce...@canonical.com>
  Marcelo Ricardo Leitner <marcelo.leit...@gmail.com>
  Marcos Paulo de Souza <marcos.souza....@gmail.com>
  Mark Fasheh <mfas...@suse.com>
  Martin K. Petersen <martin.peter...@oracle.com>
  Martin Schwidefsky <schwidef...@de.ibm.com>
  Matan Barak <mat...@mellanox.com>
  Mathias Kretschmer <mathias.kretsch...@fit.fraunhofer.de>
  Matthias Schiffer <mschif...@universe-factory.net>
  Mauro Carvalho Chehab <mche...@osg.samsung.com>
  Mauro Carvalho Chehab <mche...@s-opensource.com>
  Maxime Jayat <maxime.ja...@mobile-devices.fr>
  Michael Ellerman <m...@ellerman.id.au>
  Michal Hocko <mho...@suse.com>
  Mike Kravetz <mike.krav...@oracle.com>
  Mike Snitzer <snit...@redhat.com>
  Miklos Szeredi <mszer...@redhat.com>
  Mikulas Patocka <mpato...@redhat.com>
  Mimi Zohar <zo...@linux.vnet.ibm.com>
  Nathan Sullivan <nathan.sulli...@ni.com>
  NeilBrown <ne...@suse.com>
  Nicolai Stange <nicsta...@gmail.com>
  Nicolas Iooss <nicolas.iooss_li...@m4x.org>
  Oleg Nesterov <o...@redhat.com>
  Olga Kornievskaia <a...@umich.edu>
  Olga Kornievskaia <ko...@netapp.com>
  Oliver Hartkopp <socket...@hartkopp.net>
  Oliver O'Halloran <ooh...@gmail.com>
  Pablo Neira Ayuso <pa...@netfilter.org>
  Pan Bian <bianpan2...@163.com>
  Paolo Abeni <pab...@redhat.com>
  Paolo Bonzini <pbonz...@redhat.com>
  Paul Burton <paul.bur...@imgtec.com>
  Paul Moore <p...@paul-moore.com>
  Peter Rosin <p...@lysator.liu.se>
  Peter Xu <pet...@redhat.com>
  Peter Zijlstra (Intel) <pet...@infradead.org>
  Peter Zijlstra <pet...@infradead.org>
  Philip Pettersson <philip.petters...@gmail.com>
  Rabin Vincent <rab...@axis.com>
  Radim Krčmář <rkrc...@redhat.com>
  Rafael J. Wysocki <rafael.j.wyso...@intel.com>
  Raghava Aditya Renukunta <raghavaaditya.renuku...@microsemi.com>
  Ralf Baechle <r...@linux-mips.org>
  Richard Weinberger <rich...@nod.at>
  Rik van Riel <r...@redhat.com>
  Rob Herring <r...@kernel.org>
  Robbie Ko <robbi...@synology.com>
  Robert Doebbelin <rob...@quobyte.com>
  Roman Mashak <m...@mojatatu.com>
  Russell King <rmk+ker...@arm.linux.org.uk>
  Russell King <rmk+ker...@armlinux.org.uk>
  Ryan Ware <w...@linux.intel.com>
  Saeed Mahameed <sae...@mellanox.com>
  Sam Bobroff <sam.bobr...@au1.ibm.com>
  Sasha Levin <alexander.le...@verizon.com>
  Sebastian Andrzej Siewior <bige...@linutronix.de>
  Segher Boessenkool <seg...@kernel.crashing.org>
  Shahar Klein <shah...@mellanox.com>
  Shawn Guo <shawn...@kernel.org>
  Shmulik Ladkani <shmulik.ladk...@gmail.com>
  Simon Wunderlich <s...@simonwunderlich.de>
  Stefan Wahren <stefan.wah...@i2se.com>
  Steffen Klassert <steffen.klass...@secunet.com>
  Steffen Maier <ma...@linux.vnet.ibm.com>
  Stephen Boyd <sb...@codeaurora.org>
  Stephen Smalley <s...@tycho.nsa.gov>
  Steve Rutherford <srutherf...@google.com>
  Steven Rostedt (Red Hat) <rost...@goodmis.org>
  Steven Rostedt (VMware) <rost...@goodmis.org>
  Steven Rostedt <rost...@goodmis.org>
  Sumit Semwal <sumit.sem...@linaro.org>
  Sven Eckelmann <s...@narfation.org>
  Takashi Iwai <ti...@suse.de>
  Tariq Toukan <tar...@mellanox.com>
  Theodore Ts'o <ty...@mit.edu>
  Thomas Gleixner <t...@linutronix.de>
  Thorsten Horstmann <thors...@defutech.de>
  Tomasz Medrek <tomaszx.med...@intel.com>
  Tony Lindgren <t...@atomide.com>
  Trond Myklebust <trond.mykleb...@primarydata.com>
  Ulf Hansson <ulf.hans...@linaro.org>
  Uwe Kleine-König <u.kleine-koe...@pengutronix.de>
  Vitaly Kuznetsov <vkuzn...@redhat.com>
  Vlad Yasevich <yasev...@gmail.com>
  Vladimir Zapolskiy <vladimir_zapols...@mentor.com>
  Vladimir Zapolskiy <v...@mleia.com>
  WANG Cong <xiyou.wangc...@gmail.com>
  Wei Yongjun <yongjun_...@trendmicro.com.cn>
  Will Deacon <will.dea...@arm.com>
  Willy Tarreau <w...@1wt.eu>
  Wolfram Sang <w...@the-dreams.de>
  Xander Huff <xander.h...@ni.com>
  Xin Long <lucien....@gmail.com>
  Yishai Hadas <yish...@mellanox.com>

jobs:
 build-amd64-xsm                                              broken  
 build-i386-xsm                                               broken  
 build-amd64                                                  broken  
 build-i386                                                   broken  
 build-amd64-libvirt                                          blocked 
 build-i386-libvirt                                           blocked 
 build-amd64-pvops                                            broken  
 build-i386-pvops                                             broken  
 build-amd64-rumprun                                          blocked 
 build-i386-rumprun                                           blocked 
 test-amd64-amd64-xl                                          blocked 
 test-amd64-i386-xl                                           blocked 
 test-amd64-amd64-xl-qemut-debianhvm-amd64-xsm                blocked 
 test-amd64-i386-xl-qemut-debianhvm-amd64-xsm                 blocked 
 test-amd64-amd64-libvirt-qemuu-debianhvm-amd64-xsm           blocked 
 test-amd64-i386-libvirt-qemuu-debianhvm-amd64-xsm            blocked 
 test-amd64-amd64-xl-qemuu-debianhvm-amd64-xsm                blocked 
 test-amd64-i386-xl-qemuu-debianhvm-amd64-xsm                 blocked 
 test-amd64-amd64-xl-qemut-stubdom-debianhvm-amd64-xsm        blocked 
 test-amd64-i386-xl-qemut-stubdom-debianhvm-amd64-xsm         blocked 
 test-amd64-amd64-libvirt-xsm                                 blocked 
 test-amd64-i386-libvirt-xsm                                  blocked 
 test-amd64-amd64-xl-xsm                                      blocked 
 test-amd64-i386-xl-xsm                                       blocked 
 test-amd64-amd64-qemuu-nested-amd                            blocked 
 test-amd64-amd64-xl-pvh-amd                                  blocked 
 test-amd64-i386-qemut-rhel6hvm-amd                           blocked 
 test-amd64-i386-qemuu-rhel6hvm-amd                           blocked 
 test-amd64-amd64-xl-qemut-debianhvm-amd64                    blocked 
 test-amd64-i386-xl-qemut-debianhvm-amd64                     blocked 
 test-amd64-amd64-xl-qemuu-debianhvm-amd64                    blocked 
 test-amd64-i386-xl-qemuu-debianhvm-amd64                     blocked 
 test-amd64-i386-freebsd10-amd64                              blocked 
 test-amd64-amd64-xl-qemuu-ovmf-amd64                         blocked 
 test-amd64-i386-xl-qemuu-ovmf-amd64                          blocked 
 test-amd64-amd64-rumprun-amd64                               blocked 
 test-amd64-amd64-xl-qemut-win7-amd64                         blocked 
 test-amd64-i386-xl-qemut-win7-amd64                          blocked 
 test-amd64-amd64-xl-qemuu-win7-amd64                         blocked 
 test-amd64-i386-xl-qemuu-win7-amd64                          blocked 
 test-amd64-amd64-xl-credit2                                  blocked 
 test-amd64-i386-freebsd10-i386                               blocked 
 test-amd64-i386-rumprun-i386                                 blocked 
 test-amd64-amd64-qemuu-nested-intel                          blocked 
 test-amd64-amd64-xl-pvh-intel                                blocked 
 test-amd64-i386-qemut-rhel6hvm-intel                         blocked 
 test-amd64-i386-qemuu-rhel6hvm-intel                         blocked 
 test-amd64-amd64-libvirt                                     blocked 
 test-amd64-i386-libvirt                                      blocked 
 test-amd64-amd64-xl-multivcpu                                blocked 
 test-amd64-amd64-pair                                        blocked 
 test-amd64-i386-pair                                         blocked 
 test-amd64-amd64-libvirt-pair                                blocked 
 test-amd64-i386-libvirt-pair                                 blocked 
 test-amd64-amd64-amd64-pvgrub                                blocked 
 test-amd64-amd64-i386-pvgrub                                 blocked 
 test-amd64-amd64-pygrub                                      blocked 
 test-amd64-amd64-xl-qcow2                                    blocked 
 test-amd64-i386-xl-raw                                       blocked 
 test-amd64-amd64-xl-rtds                                     blocked 
 test-amd64-i386-xl-qemut-winxpsp3-vcpus1                     blocked 
 test-amd64-i386-xl-qemuu-winxpsp3-vcpus1                     blocked 
 test-amd64-amd64-libvirt-vhd                                 blocked 
 test-amd64-amd64-xl-qemut-winxpsp3                           blocked 
 test-amd64-i386-xl-qemut-winxpsp3                            blocked 
 test-amd64-amd64-xl-qemuu-winxpsp3                           blocked 
 test-amd64-i386-xl-qemuu-winxpsp3                            blocked 


------------------------------------------------------------
sg-report-flight on osstest.xs.citrite.net
logs: /home/osstest/logs
images: /home/osstest/images

Logs, config files, etc. are available at
    http://osstest.xs.citrite.net/~osstest/testlogs/logs

Test harness code can be found at
    http://xenbits.xensource.com/gitweb?p=osstest.git;a=summary

broken-step build-i386-pvops host-install(3)
broken-step build-i386-xsm host-install(3)
broken-step build-i386 host-install(3)
broken-step build-amd64 host-install(3)
broken-step build-amd64-pvops host-install(3)
broken-step build-amd64-xsm host-install(3)

Push not applicable.

(No revision log; it would be 7524 lines long.)

_______________________________________________
Xen-devel mailing list
Xen-devel@lists.xen.org
https://lists.xen.org/xen-devel

Reply via email to