flight 158599 xen-unstable-coverity real [real]
http://logs.test-lab.xenproject.org/osstest/logs/158599/

Perfect :-)
All tests in this flight passed as required
version targeted for testing:
 xen                  452ddbe3592b141b05a7e0676f09c8ae07f98fdd
baseline version:
 xen                  3487f4cf8bf5cef47a4c3918c13a502afc9891f6

Last test of basis   158538  2021-01-20 09:19:56 Z    4 days
Testing same since   158599  2021-01-24 09:18:27 Z    0 days    1 attempts

------------------------------------------------------------
People who touched revisions under test:
  Andrew Cooper <andrew.coop...@citrix.com>
  Christian Lindig <christian.lin...@citrix.com>
  Doug Goldstein <car...@cardoe.com>
  Edwin Török <edvin.to...@citrix.com>
  Hans Reiser <h...@sec.uni-passau.de>
  Ian Jackson <ian.jack...@eu.citrix.com>
  Juergen Gross <jgr...@suse.com>
  Julien Grall <jgr...@amazon.com>
  Julien Grall <julien.gr...@amazon.com>
  Michal Orzel <michal.or...@arm.com>
  Olaf Hering <o...@aepfle.de>
  Paul Durrant <pdurr...@amazon.com>
  Rahul Singh <rahul.si...@arm.com>
  Roger Pau Monné <roger....@citrix.com>
  Stefano Stabellini <sstabell...@kernel.org>
  Stefano Stabellini <stefano.stabell...@xilinx.com>
  Vladimir Murzin <vladimir.mur...@arm.com>
  Wei Chen <wei.c...@arm.com>
  Wei Liu <w...@xen.org>

jobs:
 coverity-amd64                                               pass    


------------------------------------------------------------
sg-report-flight on osstest.test-lab.xenproject.org
logs: /home/logs/logs
images: /home/logs/images

Logs, config files, etc. are available at
    http://logs.test-lab.xenproject.org/osstest/logs

Explanation of these reports, and of osstest in general, is at
    http://xenbits.xen.org/gitweb/?p=osstest.git;a=blob;f=README.email;hb=master
    http://xenbits.xen.org/gitweb/?p=osstest.git;a=blob;f=README;hb=master

Test harness code can be found at
    http://xenbits.xen.org/gitweb?p=osstest.git;a=summary


Pushing revision :

To xenbits.xen.org:/home/xen/git/xen.git
   3487f4cf8b..452ddbe359  452ddbe3592b141b05a7e0676f09c8ae07f98fdd -> 
coverity-tested/smoke

Reply via email to