flight 158404 xen-unstable-coverity real [real]
http://logs.test-lab.xenproject.org/osstest/logs/158404/

Perfect :-)
All tests in this flight passed as required
version targeted for testing:
 xen                  414be7b66349e7dca42bc1fd47c2b2f5b2d27432
baseline version:
 xen                  ce59e3dda5f99afbe7257e1e9a22dffd5c4d033c

Last test of basis   158320  2021-01-10 09:18:27 Z    3 days
Testing same since   158404  2021-01-13 09:20:27 Z    0 days    1 attempts

------------------------------------------------------------
People who touched revisions under test:
  Andrew Cooper <andrew.coop...@citrix.com>
  Jan Beulich <jbeul...@suse.com>
  Julien Grall <jgr...@amazon.com>
  Oleksandr Tyshchenko <oleksandr_tyshche...@epam.com>
  Roger Pau Monné <roger....@citrix.com>
  Stefano Stabellini <sstabell...@kernel.org>
  Stefano Stabellini <stefano.stabell...@xilinx.com>

jobs:
 coverity-amd64                                               pass    


------------------------------------------------------------
sg-report-flight on osstest.test-lab.xenproject.org
logs: /home/logs/logs
images: /home/logs/images

Logs, config files, etc. are available at
    http://logs.test-lab.xenproject.org/osstest/logs

Explanation of these reports, and of osstest in general, is at
    http://xenbits.xen.org/gitweb/?p=osstest.git;a=blob;f=README.email;hb=master
    http://xenbits.xen.org/gitweb/?p=osstest.git;a=blob;f=README;hb=master

Test harness code can be found at
    http://xenbits.xen.org/gitweb?p=osstest.git;a=summary


Pushing revision :

To xenbits.xen.org:/home/xen/git/xen.git
   ce59e3dda5..414be7b663  414be7b66349e7dca42bc1fd47c2b2f5b2d27432 -> 
coverity-tested/smoke

Reply via email to