flight 157090 xen-unstable-coverity real [real]
http://logs.test-lab.xenproject.org/osstest/logs/157090/

Perfect :-)
All tests in this flight passed as required
version targeted for testing:
 xen                  f7d7d53f6464cff94ead4c15d21e79ce4d9173f5
baseline version:
 xen                  9b156bcc3ffcc7949edd4460b718a241e87ae302

Last test of basis   157003  2020-11-25 09:18:28 Z    4 days
Testing same since   157090  2020-11-29 09:18:25 Z    0 days    1 attempts

------------------------------------------------------------
People who touched revisions under test:
  Bertrand Marquis <bertrand.marq...@arm.com>
  Jan Beulich <jbeul...@suse.com>
  Julien Grall <jgr...@amazon.com>
  Paul Durrant <pdurr...@amazon.com>
  Rahul Singh <rahul.si...@arm.com>

jobs:
 coverity-amd64                                               pass    


------------------------------------------------------------
sg-report-flight on osstest.test-lab.xenproject.org
logs: /home/logs/logs
images: /home/logs/images

Logs, config files, etc. are available at
    http://logs.test-lab.xenproject.org/osstest/logs

Explanation of these reports, and of osstest in general, is at
    http://xenbits.xen.org/gitweb/?p=osstest.git;a=blob;f=README.email;hb=master
    http://xenbits.xen.org/gitweb/?p=osstest.git;a=blob;f=README;hb=master

Test harness code can be found at
    http://xenbits.xen.org/gitweb?p=osstest.git;a=summary


Pushing revision :

To xenbits.xen.org:/home/xen/git/xen.git
   9b156bcc3f..f7d7d53f64  f7d7d53f6464cff94ead4c15d21e79ce4d9173f5 -> 
coverity-tested/smoke

Reply via email to