flight 155515 xen-unstable-coverity real [real] http://logs.test-lab.xenproject.org/osstest/logs/155515/
Perfect :-) All tests in this flight passed as required version targeted for testing: xen 93508595d588afe9dca087f95200effb7cedc81f baseline version: xen 8ef6345ef557cc2c47298217635a3088eaa59893 Last test of basis 155448 2020-10-04 09:18:26 Z 3 days Testing same since 155515 2020-10-07 09:19:32 Z 0 days 1 attempts ------------------------------------------------------------ People who touched revisions under test: Andrew Cooper <andrew.coop...@citrix.com> Christian Lindig <christian.lin...@citrix.com> Jan Beulich <jbeul...@suse.com> Marek Marczykowski-Górecki <marma...@invisiblethingslab.com> Roger Pau Monne <roger....@citrix.com> Roger Pau Monné <roger....@citrix.com> Tim Deegan <t...@xen.org> Wei Liu <w...@xen.org> jobs: coverity-amd64 pass ------------------------------------------------------------ sg-report-flight on osstest.test-lab.xenproject.org logs: /home/logs/logs images: /home/logs/images Logs, config files, etc. are available at http://logs.test-lab.xenproject.org/osstest/logs Explanation of these reports, and of osstest in general, is at http://xenbits.xen.org/gitweb/?p=osstest.git;a=blob;f=README.email;hb=master http://xenbits.xen.org/gitweb/?p=osstest.git;a=blob;f=README;hb=master Test harness code can be found at http://xenbits.xen.org/gitweb?p=osstest.git;a=summary Pushing revision : To xenbits.xen.org:/home/xen/git/xen.git 8ef6345ef5..93508595d5 93508595d588afe9dca087f95200effb7cedc81f -> coverity-tested/smoke