flight 153755 qemu-mainline real [real] http://logs.test-lab.xenproject.org/osstest/logs/153755/
Failures and problems with tests :-( Tests which did not succeed and are blocking, including tests which could not be run: build-amd64 <job status> broken build-amd64-pvops <job status> broken build-amd64-xsm <job status> broken build-arm64 <job status> broken build-arm64-pvops <job status> broken build-arm64-xsm <job status> broken build-armhf <job status> broken build-armhf-pvops <job status> broken build-i386 <job status> broken build-i386-pvops <job status> broken build-i386-xsm <job status> broken build-amd64 2 hosts-allocate broken REGR. vs. 152631 build-amd64-pvops 2 hosts-allocate broken REGR. vs. 152631 build-arm64 2 hosts-allocate broken REGR. vs. 152631 build-amd64-xsm 2 hosts-allocate broken REGR. vs. 152631 build-armhf 2 hosts-allocate broken REGR. vs. 152631 build-arm64-xsm 2 hosts-allocate broken REGR. vs. 152631 build-armhf-pvops 2 hosts-allocate broken REGR. vs. 152631 build-i386 2 hosts-allocate broken REGR. vs. 152631 build-i386-pvops 2 hosts-allocate broken REGR. vs. 152631 build-i386-xsm 2 hosts-allocate broken REGR. vs. 152631 build-arm64-pvops 2 hosts-allocate broken REGR. vs. 152631 Tests which did not succeed, but are not blocking: test-armhf-armhf-xl-multivcpu 1 build-check(1) blocked n/a test-armhf-armhf-xl-rtds 1 build-check(1) blocked n/a test-armhf-armhf-xl-vhd 1 build-check(1) blocked n/a test-amd64-i386-pair 1 build-check(1) blocked n/a test-amd64-i386-libvirt-xsm 1 build-check(1) blocked n/a test-amd64-i386-libvirt-qemuu-debianhvm-amd64-xsm 1 build-check(1) blocked n/a test-amd64-i386-libvirt-pair 1 build-check(1) blocked n/a test-amd64-i386-libvirt 1 build-check(1) blocked n/a test-amd64-i386-freebsd10-i386 1 build-check(1) blocked n/a test-amd64-i386-freebsd10-amd64 1 build-check(1) blocked n/a test-amd64-coresched-i386-xl 1 build-check(1) blocked n/a test-amd64-coresched-amd64-xl 1 build-check(1) blocked n/a test-amd64-amd64-xl-xsm 1 build-check(1) blocked n/a test-amd64-amd64-xl-shadow 1 build-check(1) blocked n/a test-amd64-amd64-xl-rtds 1 build-check(1) blocked n/a build-amd64-libvirt 1 build-check(1) blocked n/a test-amd64-amd64-xl-qemuu-ws16-amd64 1 build-check(1) blocked n/a test-amd64-amd64-xl-qemuu-win7-amd64 1 build-check(1) blocked n/a build-arm64-libvirt 1 build-check(1) blocked n/a test-amd64-amd64-xl-qemuu-ovmf-amd64 1 build-check(1) blocked n/a test-amd64-amd64-xl-qemuu-dmrestrict-amd64-dmrestrict 1 build-check(1) blocked n/a build-armhf-libvirt 1 build-check(1) blocked n/a test-amd64-amd64-xl-qemuu-debianhvm-i386-xsm 1 build-check(1) blocked n/a test-amd64-amd64-xl-qemuu-debianhvm-amd64-shadow 1 build-check(1) blocked n/a build-i386-libvirt 1 build-check(1) blocked n/a test-amd64-amd64-xl-qemuu-debianhvm-amd64 1 build-check(1) blocked n/a test-amd64-amd64-amd64-pvgrub 1 build-check(1) blocked n/a test-amd64-amd64-xl-qcow2 1 build-check(1) blocked n/a test-amd64-amd64-dom0pvh-xl-amd 1 build-check(1) blocked n/a test-amd64-amd64-dom0pvh-xl-intel 1 build-check(1) blocked n/a test-amd64-amd64-xl-pvshim 1 build-check(1) blocked n/a test-amd64-amd64-i386-pvgrub 1 build-check(1) blocked n/a test-amd64-amd64-libvirt 1 build-check(1) blocked n/a test-amd64-amd64-xl-pvhv2-intel 1 build-check(1) blocked n/a test-amd64-amd64-libvirt-pair 1 build-check(1) blocked n/a test-amd64-amd64-libvirt-qemuu-debianhvm-amd64-xsm 1 build-check(1) blocked n/a test-amd64-amd64-xl-pvhv2-amd 1 build-check(1) blocked n/a test-amd64-amd64-libvirt-vhd 1 build-check(1) blocked n/a test-amd64-amd64-libvirt-xsm 1 build-check(1) blocked n/a test-amd64-amd64-xl-multivcpu 1 build-check(1) blocked n/a test-amd64-amd64-pair 1 build-check(1) blocked n/a test-amd64-amd64-pygrub 1 build-check(1) blocked n/a test-amd64-amd64-xl-credit2 1 build-check(1) blocked n/a test-amd64-amd64-qemuu-freebsd11-amd64 1 build-check(1) blocked n/a test-amd64-amd64-qemuu-freebsd12-amd64 1 build-check(1) blocked n/a test-amd64-amd64-xl-credit1 1 build-check(1) blocked n/a test-amd64-amd64-qemuu-nested-amd 1 build-check(1) blocked n/a test-amd64-amd64-qemuu-nested-intel 1 build-check(1) blocked n/a test-amd64-amd64-xl 1 build-check(1) blocked n/a test-armhf-armhf-xl-credit2 1 build-check(1) blocked n/a test-armhf-armhf-xl-cubietruck 1 build-check(1) blocked n/a test-amd64-i386-qemuu-rhel6hvm-amd 1 build-check(1) blocked n/a test-amd64-i386-qemuu-rhel6hvm-intel 1 build-check(1) blocked n/a test-amd64-i386-xl 1 build-check(1) blocked n/a test-amd64-i386-xl-pvshim 1 build-check(1) blocked n/a test-amd64-i386-xl-qemuu-debianhvm-amd64 1 build-check(1) blocked n/a test-amd64-i386-xl-qemuu-debianhvm-amd64-shadow 1 build-check(1) blocked n/a test-amd64-i386-xl-qemuu-debianhvm-i386-xsm 1 build-check(1) blocked n/a test-amd64-i386-xl-qemuu-dmrestrict-amd64-dmrestrict 1 build-check(1) blocked n/a test-amd64-i386-xl-qemuu-ovmf-amd64 1 build-check(1) blocked n/a test-amd64-i386-xl-qemuu-win7-amd64 1 build-check(1) blocked n/a test-amd64-i386-xl-qemuu-ws16-amd64 1 build-check(1) blocked n/a test-amd64-i386-xl-raw 1 build-check(1) blocked n/a test-amd64-i386-xl-shadow 1 build-check(1) blocked n/a test-amd64-i386-xl-xsm 1 build-check(1) blocked n/a test-arm64-arm64-libvirt-xsm 1 build-check(1) blocked n/a test-arm64-arm64-xl 1 build-check(1) blocked n/a test-arm64-arm64-xl-credit1 1 build-check(1) blocked n/a test-arm64-arm64-xl-credit2 1 build-check(1) blocked n/a test-arm64-arm64-xl-seattle 1 build-check(1) blocked n/a test-arm64-arm64-xl-thunderx 1 build-check(1) blocked n/a test-arm64-arm64-xl-xsm 1 build-check(1) blocked n/a test-armhf-armhf-libvirt 1 build-check(1) blocked n/a test-armhf-armhf-libvirt-raw 1 build-check(1) blocked n/a test-armhf-armhf-xl 1 build-check(1) blocked n/a test-armhf-armhf-xl-arndale 1 build-check(1) blocked n/a test-armhf-armhf-xl-credit1 1 build-check(1) blocked n/a version targeted for testing: qemuu 1133ce5ec9674d594a84fad2696adc30d292a234 baseline version: qemuu 1d806cef0e38b5db8347a8e12f214d543204a314 Last test of basis 152631 2020-08-20 09:07:46 Z 16 days Failing since 152659 2020-08-21 14:07:39 Z 15 days 46 attempts Testing same since 153740 2020-09-05 02:15:15 Z 0 days 3 attempts ------------------------------------------------------------ People who touched revisions under test: Alberto Garcia <be...@igalia.com> Alex Bennée <alex.ben...@linaro.org> Alexander Bulekov <alx...@bu.edu> Alistair Francis <alistair.fran...@wdc.com> Alistair Francis <alistair.fran...@xilinx.com> Andrey Konovalov <andreyk...@google.com> Andrey Shinkevich <andrey.shinkev...@virtuozzo.com> Ani Sinha <a...@anisinha.ca> Anthony PERARD <anthony.per...@citrix.com> Anton Blanchard <an...@ozlabs.org> Anup Patel <anup.pa...@wdc.com> Babu Moger <babu.mo...@amd.com> Bin Meng <bin.m...@windriver.com> Bruce Rogers <brog...@suse.com> Carlo Marcelo Arenas Belón <care...@gmail.com> Chen Gang <cheng...@emindsoft.com.cn> Chen Qun <kuhn.chen...@huawei.com> Chih-Min Chao <chihmin.c...@sifive.com> Christian Borntraeger <borntrae...@de.ibm.com> Christian Schoenebeck <qemu_...@crudebyte.com> Cornelia Huck <coh...@redhat.com> Cédric Le Goater <c...@kaod.org> César Belley <cesar.bel...@lse.epita.fr> Daniel Henrique Barboza <danielhb...@gmail.com> Daniel P. Berrangé <berra...@redhat.com> David Gibson <da...@gibson.dropbear.id.au> Dr. David Alan Gilbert <dgilb...@redhat.com> Edgar E. Iglesias <edgar.igles...@xilinx.com> Eduardo Habkost <ehabk...@redhat.com> Eric Auger <eric.au...@redhat.com> Eric Blake <ebl...@redhat.com> Erik Smit <erik.lucas.s...@gmail.com> Fam Zheng <f...@euphon.net> Filip Bozuta <filip.boz...@syrmia.com> Frank Chang <frank.ch...@sifive.com> Gerd Hoffmann <kra...@redhat.com> Gonglei <arei.gong...@huawei.com> Graeme Gregory <gra...@nuviainc.com> Greg Kurz <gr...@kaod.org> Gustavo Romero <grom...@linux.ibm.com> Han Han <h...@redhat.com> Helge Deller <del...@gmx.de> Heyi Guo <guoh...@huawei.com> Hongzheng-Li <ethan.lee....@gmail.com> Hou Weiying <weiying_...@outlook.com> Igor Kononenko <i.konone...@yadro.com> Igor Mammedov <imamm...@redhat.com> Joel Stanley <j...@jms.id.au> Keith Busch <kbu...@kernel.org> Kenta Ishiguro <kentaishig...@slowstart.org> Kevin Wolf <kw...@redhat.com> Kito Cheng <kito.ch...@sifive.com> Klaus Jensen <k.jen...@samsung.com> Klaus Jensen <klaus.jen...@cnexlabs.com> Laurent Vivier <laur...@vivier.eu> Laurent Vivier <lviv...@redhat.com> Leif Lindholm <l...@nuviainc.com> Li Qiang <liq...@163.com> Liao Pingfang <liao.pingf...@zte.com.cn> Liao Pingfang <liao.pingf...@zte.com.cn>a Lijun Pan <l...@linux.ibm.com> LIU Zhiwei <zhiwei_...@c-sky.com> Longpeng(Mike) <longpe...@huawei.com> Marc-André Lureau <marcandre.lur...@redhat.com> Mark Cave-Ayland <mark.cave-ayl...@ilande.co.uk> Markus Armbruster <arm...@redhat.com> Matthieu Bucchianeri <matthieu.bucchian...@leostella.com> Max Filippov <jcmvb...@gmail.com> Max Reitz <mre...@redhat.com> Michael S. Tsirkin <m...@redhat.com> Michal Privoznik <mpriv...@redhat.com> Mike Gelfand <mike...@mikedld.com> Myriad-Dreamin <camiy...@gmail.com> Niek Linnenbank <nieklinnenb...@gmail.com> Pan Nengyuan <pannengy...@huawei.com> Paolo Bonzini <pbonz...@redhat.com> Paul Burton <paulbur...@kernel.org> Peter Maydell <peter.mayd...@linaro.org> Peter Xu <pet...@redhat.com> Philippe Mathieu-Daudé <f4...@amsat.org> Philippe Mathieu-Daudé <phi...@redhat.com> Richard Henderson <richard.hender...@linaro.org> Roman Bolshakov <r.bolsha...@yadro.com> Sai Pavan Boddu <sai.pavan.bo...@xilinx.com> Sergio Lopez <s...@redhat.com> Stefan Hajnoczi <stefa...@redhat.com> Stefan Weil <s...@weilnetz.de> Stefano Garzarella <sgarz...@redhat.com> Stephen Long <stepl...@quicinc.com> Sven Schnelle <sv...@stackframe.org> Thomas Huth <h...@tuxfamily.org> Thomas Huth <th...@redhat.com> Tianjia Zhang <tianjia.zh...@linux.alibaba.com> Vitaly Cheptsov <vit9...@protonmail.com> Vivek Goyal <vgo...@redhat.com> Vladimir Sementsov-Ogievskiy <vsement...@virtuozzo.com> Volker Rümelin <vr_q...@t-online.de> Yi Wang <wang.y...@zte.com.cn> Ying Fang <fangyi...@huawei.com> Yonggang Luo <luoyongg...@gmail.com> Zhenyu Ye <yezhen...@huawei.com> Zong Li <zong...@sifive.com> jobs: build-amd64-xsm broken build-arm64-xsm broken build-i386-xsm broken build-amd64 broken build-arm64 broken build-armhf broken build-i386 broken build-amd64-libvirt blocked build-arm64-libvirt blocked build-armhf-libvirt blocked build-i386-libvirt blocked build-amd64-pvops broken build-arm64-pvops broken build-armhf-pvops broken build-i386-pvops broken test-amd64-amd64-xl blocked test-amd64-coresched-amd64-xl blocked test-arm64-arm64-xl blocked test-armhf-armhf-xl blocked test-amd64-i386-xl blocked test-amd64-coresched-i386-xl blocked test-amd64-amd64-libvirt-qemuu-debianhvm-amd64-xsm blocked test-amd64-i386-libvirt-qemuu-debianhvm-amd64-xsm blocked test-amd64-amd64-xl-qemuu-debianhvm-i386-xsm blocked test-amd64-i386-xl-qemuu-debianhvm-i386-xsm blocked test-amd64-amd64-libvirt-xsm blocked test-arm64-arm64-libvirt-xsm blocked test-amd64-i386-libvirt-xsm blocked test-amd64-amd64-xl-xsm blocked test-arm64-arm64-xl-xsm blocked test-amd64-i386-xl-xsm blocked test-amd64-amd64-qemuu-nested-amd blocked test-amd64-amd64-xl-pvhv2-amd blocked test-amd64-i386-qemuu-rhel6hvm-amd blocked test-amd64-amd64-dom0pvh-xl-amd blocked test-amd64-amd64-xl-qemuu-debianhvm-amd64 blocked test-amd64-i386-xl-qemuu-debianhvm-amd64 blocked test-amd64-i386-freebsd10-amd64 blocked test-amd64-amd64-qemuu-freebsd11-amd64 blocked test-amd64-amd64-qemuu-freebsd12-amd64 blocked test-amd64-amd64-xl-qemuu-ovmf-amd64 blocked test-amd64-i386-xl-qemuu-ovmf-amd64 blocked test-amd64-amd64-xl-qemuu-win7-amd64 blocked test-amd64-i386-xl-qemuu-win7-amd64 blocked test-amd64-amd64-xl-qemuu-ws16-amd64 blocked test-amd64-i386-xl-qemuu-ws16-amd64 blocked test-armhf-armhf-xl-arndale blocked test-amd64-amd64-xl-credit1 blocked test-arm64-arm64-xl-credit1 blocked test-armhf-armhf-xl-credit1 blocked test-amd64-amd64-xl-credit2 blocked test-arm64-arm64-xl-credit2 blocked test-armhf-armhf-xl-credit2 blocked test-armhf-armhf-xl-cubietruck blocked test-amd64-amd64-xl-qemuu-dmrestrict-amd64-dmrestrict blocked test-amd64-i386-xl-qemuu-dmrestrict-amd64-dmrestrict blocked test-amd64-i386-freebsd10-i386 blocked test-amd64-amd64-qemuu-nested-intel blocked test-amd64-amd64-xl-pvhv2-intel blocked test-amd64-i386-qemuu-rhel6hvm-intel blocked test-amd64-amd64-dom0pvh-xl-intel blocked test-amd64-amd64-libvirt blocked test-armhf-armhf-libvirt blocked test-amd64-i386-libvirt blocked test-amd64-amd64-xl-multivcpu blocked test-armhf-armhf-xl-multivcpu blocked test-amd64-amd64-pair blocked test-amd64-i386-pair blocked test-amd64-amd64-libvirt-pair blocked test-amd64-i386-libvirt-pair blocked test-amd64-amd64-amd64-pvgrub blocked test-amd64-amd64-i386-pvgrub blocked test-amd64-amd64-xl-pvshim blocked test-amd64-i386-xl-pvshim blocked test-amd64-amd64-pygrub blocked test-amd64-amd64-xl-qcow2 blocked test-armhf-armhf-libvirt-raw blocked test-amd64-i386-xl-raw blocked test-amd64-amd64-xl-rtds blocked test-armhf-armhf-xl-rtds blocked test-arm64-arm64-xl-seattle blocked test-amd64-amd64-xl-qemuu-debianhvm-amd64-shadow blocked test-amd64-i386-xl-qemuu-debianhvm-amd64-shadow blocked test-amd64-amd64-xl-shadow blocked test-amd64-i386-xl-shadow blocked test-arm64-arm64-xl-thunderx blocked test-amd64-amd64-libvirt-vhd blocked test-armhf-armhf-xl-vhd blocked ------------------------------------------------------------ sg-report-flight on osstest.test-lab.xenproject.org logs: /home/logs/logs images: /home/logs/images Logs, config files, etc. are available at http://logs.test-lab.xenproject.org/osstest/logs Explanation of these reports, and of osstest in general, is at http://xenbits.xen.org/gitweb/?p=osstest.git;a=blob;f=README.email;hb=master http://xenbits.xen.org/gitweb/?p=osstest.git;a=blob;f=README;hb=master Test harness code can be found at http://xenbits.xen.org/gitweb?p=osstest.git;a=summary broken-job build-amd64 broken broken-job build-amd64-pvops broken broken-job build-amd64-xsm broken broken-job build-arm64 broken broken-job build-arm64-pvops broken broken-job build-arm64-xsm broken broken-job build-armhf broken broken-job build-armhf-pvops broken broken-job build-i386 broken broken-job build-i386-pvops broken broken-job build-i386-xsm broken broken-step build-amd64 hosts-allocate broken-step build-amd64-pvops hosts-allocate broken-step build-arm64 hosts-allocate broken-step build-amd64-xsm hosts-allocate broken-step build-armhf hosts-allocate broken-step build-arm64-xsm hosts-allocate broken-step build-armhf-pvops hosts-allocate broken-step build-i386 hosts-allocate broken-step build-i386-pvops hosts-allocate broken-step build-i386-xsm hosts-allocate broken-step build-arm64-pvops hosts-allocate Not pushing. (No revision log; it would be 16429 lines long.)