flight 152693 xen-unstable-coverity real [real]
http://logs.test-lab.xenproject.org/osstest/logs/152693/

Perfect :-)
All tests in this flight passed as required
version targeted for testing:
 xen                  858c0be8c2fa4125a0fa0acaa03ae730e5c7cb3c
baseline version:
 xen                  391a8b6d20b72c4f24f8511f78ef75a6119cbe22

Last test of basis   152618  2020-08-19 09:19:03 Z    4 days
Testing same since   152693  2020-08-23 09:18:23 Z    0 days    1 attempts

------------------------------------------------------------
People who touched revisions under test:
  Andrew Cooper <andrew.coop...@citrix.com>
  Bertrand Marquis <bertrand.marq...@arm.com>
  Christian Lindig <christian.lin...@citrix.com>
  David Woodhouse <d...@amazon.co.uk>
  Don Slutz <don.sl...@gmail.com>
  Edwin Török <edvin.to...@citrix.com>
  Ian Jackson <ian.jack...@eu.citrix.com>
  Jan Beulich <jbeul...@suse.com>
  Julien Grall <jgr...@amazon.com>
  Paul Durrant <pdurr...@amazon.com>
  Roger Pau Monne <roger....@citrix.com>
  Roger Pau Monné <roger....@citrix.com>
  Stefano Stabellini <sstabell...@kernel.org>
  Wei Liu <w...@xen.org>

jobs:
 coverity-amd64                                               pass    


------------------------------------------------------------
sg-report-flight on osstest.test-lab.xenproject.org
logs: /home/logs/logs
images: /home/logs/images

Logs, config files, etc. are available at
    http://logs.test-lab.xenproject.org/osstest/logs

Explanation of these reports, and of osstest in general, is at
    http://xenbits.xen.org/gitweb/?p=osstest.git;a=blob;f=README.email;hb=master
    http://xenbits.xen.org/gitweb/?p=osstest.git;a=blob;f=README;hb=master

Test harness code can be found at
    http://xenbits.xen.org/gitweb?p=osstest.git;a=summary


Pushing revision :

To xenbits.xen.org:/home/xen/git/xen.git
   391a8b6d20..858c0be8c2  858c0be8c2fa4125a0fa0acaa03ae730e5c7cb3c -> 
coverity-tested/smoke

Reply via email to