flight 152617 ovmf real [real] http://logs.test-lab.xenproject.org/osstest/logs/152617/
Perfect :-) All tests in this flight passed as required version targeted for testing: ovmf a048af3c9073e4b8108e6cf920bbb35574059639 baseline version: ovmf 7f7f511c5a74676523ed48435350f6e35282b62b Last test of basis 152594 2020-08-14 03:13:03 Z 6 days Testing same since 152617 2020-08-19 09:13:09 Z 0 days 1 attempts ------------------------------------------------------------ People who touched revisions under test: Ard Biesheuvel <ard.biesheu...@arm.com> Brijesh Singh <brijesh.si...@amd.com> Cole Robinson <crobi...@redhat.com> Hao A Wu <hao.a...@intel.com> Laszlo Ersek <ler...@redhat.com> Michael D Kinney <michael.d.kin...@intel.com> Ray Ni <ray...@intel.com> Shenglei Zhang <shenglei.zh...@intel.com> Tom Lendacky <thomas.lenda...@amd.com> jobs: build-amd64-xsm pass build-i386-xsm pass build-amd64 pass build-i386 pass build-amd64-libvirt pass build-i386-libvirt pass build-amd64-pvops pass build-i386-pvops pass test-amd64-amd64-xl-qemuu-ovmf-amd64 pass test-amd64-i386-xl-qemuu-ovmf-amd64 pass ------------------------------------------------------------ sg-report-flight on osstest.test-lab.xenproject.org logs: /home/logs/logs images: /home/logs/images Logs, config files, etc. are available at http://logs.test-lab.xenproject.org/osstest/logs Explanation of these reports, and of osstest in general, is at http://xenbits.xen.org/gitweb/?p=osstest.git;a=blob;f=README.email;hb=master http://xenbits.xen.org/gitweb/?p=osstest.git;a=blob;f=README;hb=master Test harness code can be found at http://xenbits.xen.org/gitweb?p=osstest.git;a=summary Pushing revision : To xenbits.xen.org:/home/xen/git/osstest/ovmf.git 7f7f511c5a..a048af3c90 a048af3c9073e4b8108e6cf920bbb35574059639 -> xen-tested-master