flight 152536 ovmf real [real] http://logs.test-lab.xenproject.org/osstest/logs/152536/
Perfect :-) All tests in this flight passed as required version targeted for testing: ovmf a3741780fe3535e19e02efa869a7cac481891129 baseline version: ovmf 9565ab67c2095a5ea893e63561a49aedf3387b8f Last test of basis 152517 2020-08-07 09:02:31 Z 1 days Testing same since 152536 2020-08-08 05:47:10 Z 1 days 1 attempts ------------------------------------------------------------ People who touched revisions under test: Bret Barkelew <brbar...@microsoft.com> Bret Barkelew <bret.barke...@microsoft.com> Michael D Kinney <michael.d.kin...@intel.com> Pierre Gondois <pierre.gond...@arm.com> Sami Mujawar <sami.muja...@arm.com> jobs: build-amd64-xsm pass build-i386-xsm pass build-amd64 pass build-i386 pass build-amd64-libvirt pass build-i386-libvirt pass build-amd64-pvops pass build-i386-pvops pass test-amd64-amd64-xl-qemuu-ovmf-amd64 pass test-amd64-i386-xl-qemuu-ovmf-amd64 pass ------------------------------------------------------------ sg-report-flight on osstest.test-lab.xenproject.org logs: /home/logs/logs images: /home/logs/images Logs, config files, etc. are available at http://logs.test-lab.xenproject.org/osstest/logs Explanation of these reports, and of osstest in general, is at http://xenbits.xen.org/gitweb/?p=osstest.git;a=blob;f=README.email;hb=master http://xenbits.xen.org/gitweb/?p=osstest.git;a=blob;f=README;hb=master Test harness code can be found at http://xenbits.xen.org/gitweb?p=osstest.git;a=summary Pushing revision : To xenbits.xen.org:/home/xen/git/osstest/ovmf.git 9565ab67c2..a3741780fe a3741780fe3535e19e02efa869a7cac481891129 -> xen-tested-master