flight 149873 xen-unstable-coverity real [real]
http://logs.test-lab.xenproject.org/osstest/logs/149873/

Perfect :-)
All tests in this flight passed as required
version targeted for testing:
 xen                  4ec07971f1c5a236a0d8c528d806efb6bfd3d1a6
baseline version:
 xen                  f093b08c47b39da6019421a2b61d40745b3e573b

Last test of basis   149828  2020-04-26 09:18:45 Z    3 days
Testing same since   149873  2020-04-29 09:19:00 Z    0 days    1 attempts

------------------------------------------------------------
People who touched revisions under test:
  Andrew Cooper <andrew.coop...@citrix.com>
  Anthony PERARD <anthony.per...@citrix.com>
  George Dunlap <george.dun...@citrix.com>
  Hongyan Xia <hongy...@amazon.com>
  Jan Beulich <jbeul...@suse.com>
  Juergen Gross <jgr...@suse.com>
  Julien Grall <jgr...@amazon.com>
  Nick Rosbrook <rosbro...@ainfosec.com>
  Nick Rosbrook <rosbro...@gmail.com>
  Stefano Stabellini <sstabell...@kernel.org>
  Wei Liu <wei.l...@citrix.com>
  Wei Liu <w...@xen.org>

jobs:
 coverity-amd64                                               pass    


------------------------------------------------------------
sg-report-flight on osstest.test-lab.xenproject.org
logs: /home/logs/logs
images: /home/logs/images

Logs, config files, etc. are available at
    http://logs.test-lab.xenproject.org/osstest/logs

Explanation of these reports, and of osstest in general, is at
    http://xenbits.xen.org/gitweb/?p=osstest.git;a=blob;f=README.email;hb=master
    http://xenbits.xen.org/gitweb/?p=osstest.git;a=blob;f=README;hb=master

Test harness code can be found at
    http://xenbits.xen.org/gitweb?p=osstest.git;a=summary


Pushing revision :

To xenbits.xen.org:/home/xen/git/xen.git
   f093b08c47..4ec07971f1  4ec07971f1c5a236a0d8c528d806efb6bfd3d1a6 -> 
coverity-tested/smoke

Reply via email to