flight 146739 xen-unstable-coverity real [real] http://logs.test-lab.xenproject.org/osstest/logs/146739/
Perfect :-) All tests in this flight passed as required version targeted for testing: xen f7fb9a0aa9fbb81292e1626ce40340d3f6d8d505 baseline version: xen 41d8869003e96d8b7250ad1d0246371d6929aca6 Last test of basis 146666 2020-02-02 09:20:44 Z 3 days Testing same since 146739 2020-02-05 09:18:44 Z 0 days 1 attempts ------------------------------------------------------------ People who touched revisions under test: Dario Faggioli <dfaggi...@suse.com> Ian Jackson <ian.jack...@citrix.com> Ian Jackson <ian.jack...@eu.citrix.com> Jan Beulich <jbeul...@suse.com> Juergen Gross <jgr...@suse.com> Julien Grall <jul...@xen.org> Paul Durrant <pdurr...@amazon.com> Roger Pau Monne <roger....@citrix.com> Roger Pau Monné <roger....@citrix.com> Sarah Newman <s...@prgmr.com> Stefan Bader <stefan.ba...@canonical.com> Wei Liu <li...@microsoft.com> Wei Liu <wei.l...@citrix.com> Wei Liu <w...@xen.org> jobs: coverity-amd64 pass ------------------------------------------------------------ sg-report-flight on osstest.test-lab.xenproject.org logs: /home/logs/logs images: /home/logs/images Logs, config files, etc. are available at http://logs.test-lab.xenproject.org/osstest/logs Explanation of these reports, and of osstest in general, is at http://xenbits.xen.org/gitweb/?p=osstest.git;a=blob;f=README.email;hb=master http://xenbits.xen.org/gitweb/?p=osstest.git;a=blob;f=README;hb=master Test harness code can be found at http://xenbits.xen.org/gitweb?p=osstest.git;a=summary Pushing revision : To xenbits.xen.org:/home/xen/git/xen.git 41d8869003..f7fb9a0aa9 f7fb9a0aa9fbb81292e1626ce40340d3f6d8d505 -> coverity-tested/smoke _______________________________________________ Xen-devel mailing list Xen-devel@lists.xenproject.org https://lists.xenproject.org/mailman/listinfo/xen-devel