flight 144590 ovmf real [real] http://logs.test-lab.xenproject.org/osstest/logs/144590/
Perfect :-) All tests in this flight passed as required version targeted for testing: ovmf 49054b6bb66d35484e92c65f27584c4283a60986 baseline version: ovmf 9caaa79dd7e078ebb4012dde3b3d3a5d451df609 Last test of basis 144583 2019-12-06 08:09:08 Z 0 days Testing same since 144590 2019-12-06 15:09:17 Z 0 days 1 attempts ------------------------------------------------------------ People who touched revisions under test: Ard Biesheuvel <ard.biesheu...@linaro.org> Leif Lindholm <leif.lindh...@linaro.org> Pete Batard <p...@akeo.ie> Philippe Mathieu-Daude <phi...@redhat.com> jobs: build-amd64-xsm pass build-i386-xsm pass build-amd64 pass build-i386 pass build-amd64-libvirt pass build-i386-libvirt pass build-amd64-pvops pass build-i386-pvops pass test-amd64-amd64-xl-qemuu-ovmf-amd64 pass test-amd64-i386-xl-qemuu-ovmf-amd64 pass ------------------------------------------------------------ sg-report-flight on osstest.test-lab.xenproject.org logs: /home/logs/logs images: /home/logs/images Logs, config files, etc. are available at http://logs.test-lab.xenproject.org/osstest/logs Explanation of these reports, and of osstest in general, is at http://xenbits.xen.org/gitweb/?p=osstest.git;a=blob;f=README.email;hb=master http://xenbits.xen.org/gitweb/?p=osstest.git;a=blob;f=README;hb=master Test harness code can be found at http://xenbits.xen.org/gitweb?p=osstest.git;a=summary Pushing revision : To xenbits.xen.org:/home/xen/git/osstest/ovmf.git 9caaa79dd7..49054b6bb6 49054b6bb66d35484e92c65f27584c4283a60986 -> xen-tested-master _______________________________________________ Xen-devel mailing list Xen-devel@lists.xenproject.org https://lists.xenproject.org/mailman/listinfo/xen-devel