flight 140943 freebsd-master real [real]
http://logs.test-lab.xenproject.org/osstest/logs/140943/

Perfect :-)
All tests in this flight passed as required
version targeted for testing:
 freebsd              f2d1759c50fb28fa0e2e1bd65e7bd49ee7ed4693
baseline version:
 freebsd              32e0aaee87996d207cd719c68dcdb0a5df7e44f6

Last test of basis   140831  2019-08-30 09:19:36 Z    3 days
Testing same since   140943  2019-09-02 09:19:52 Z    0 days    1 attempts

------------------------------------------------------------
People who touched revisions under test:
  bdragon <bdra...@freebsd.org>
  brooks <bro...@freebsd.org>
  emaste <ema...@freebsd.org>
  emax <e...@freebsd.org>
  fox <f...@freebsd.org>
  hselasky <hsela...@freebsd.org>
  jhb <j...@freebsd.org>
  jkim <j...@freebsd.org>
  kevans <kev...@freebsd.org>
  lwhsu <lw...@freebsd.org>
  markj <ma...@freebsd.org>
  mjg <m...@freebsd.org>
  mjoras <mjo...@freebsd.org>
  ray <r...@freebsd.org>
  sevan <se...@freebsd.org>
  tsoome <tso...@freebsd.org>
  tuexen <tue...@freebsd.org>
  vmaffione <vmaffi...@freebsd.org>

jobs:
 build-amd64-freebsd-again                                    pass    
 build-amd64-freebsd                                          pass    
 build-amd64-xen-freebsd                                      pass    


------------------------------------------------------------
sg-report-flight on osstest.test-lab.xenproject.org
logs: /home/logs/logs
images: /home/logs/images

Logs, config files, etc. are available at
    http://logs.test-lab.xenproject.org/osstest/logs

Explanation of these reports, and of osstest in general, is at
    http://xenbits.xen.org/gitweb/?p=osstest.git;a=blob;f=README.email;hb=master
    http://xenbits.xen.org/gitweb/?p=osstest.git;a=blob;f=README;hb=master

Test harness code can be found at
    http://xenbits.xen.org/gitweb?p=osstest.git;a=summary


Pushing revision :

To xenbits.xen.org:/home/xen/git/freebsd.git
   32e0aaee879..f2d1759c50f  f2d1759c50fb28fa0e2e1bd65e7bd49ee7ed4693 -> 
tested/master

_______________________________________________
Xen-devel mailing list
Xen-devel@lists.xenproject.org
https://lists.xenproject.org/mailman/listinfo/xen-devel

Reply via email to