flight 140295 xen-unstable-coverity real [real] http://logs.test-lab.xenproject.org/osstest/logs/140295/
Perfect :-) All tests in this flight passed as required version targeted for testing: xen f7efd9c792738f579e3c7062d8d3e90b21d8a771 baseline version: xen 243cc95d485846e35f5e2445fdaafe77c8c114d2 Last test of basis 140105 2019-08-14 09:19:18 Z 4 days Testing same since 140295 2019-08-18 09:18:55 Z 0 days 1 attempts ------------------------------------------------------------ People who touched revisions under test: Alexandru Isaila <aisa...@bitdefender.com> Alexandru Stefan ISAILA <aisa...@bitdefender.com> Andrew Cooper <andrew.coop...@citrix.com> Brian Woods <brian.wo...@amd.com> Jan Beulich <jbeul...@suse.com> Julien Grall <julien.gr...@arm.com> Michael Young <m.a.yo...@durham.ac.uk> Stefano Stabellini <sstabell...@kernel.org> Viktor Mitin <viktor.mitin...@gmail.com> Viktor Mitin <viktor_mi...@epam.com> Wei Liu <wei.l...@citrix.com> Wei Liu <w...@xen.org> jobs: coverity-amd64 pass ------------------------------------------------------------ sg-report-flight on osstest.test-lab.xenproject.org logs: /home/logs/logs images: /home/logs/images Logs, config files, etc. are available at http://logs.test-lab.xenproject.org/osstest/logs Explanation of these reports, and of osstest in general, is at http://xenbits.xen.org/gitweb/?p=osstest.git;a=blob;f=README.email;hb=master http://xenbits.xen.org/gitweb/?p=osstest.git;a=blob;f=README;hb=master Test harness code can be found at http://xenbits.xen.org/gitweb?p=osstest.git;a=summary Pushing revision : To xenbits.xen.org:/home/xen/git/xen.git 243cc95d48..f7efd9c792 f7efd9c792738f579e3c7062d8d3e90b21d8a771 -> coverity-tested/smoke _______________________________________________ Xen-devel mailing list Xen-devel@lists.xenproject.org https://lists.xenproject.org/mailman/listinfo/xen-devel