flight 139729 freebsd-master real [real]
http://logs.test-lab.xenproject.org/osstest/logs/139729/

Perfect :-)
All tests in this flight passed as required
version targeted for testing:
 freebsd              17a1fc80d578803ae6318e7e297fc0b5605fba29
baseline version:
 freebsd              f66d5bcdd266eb22421e6f81a8f4530d1627b4a8

Last test of basis   139637  2019-08-02 09:20:08 Z    3 days
Testing same since   139729  2019-08-05 09:19:34 Z    0 days    1 attempts

------------------------------------------------------------
People who touched revisions under test:
  alc <a...@freebsd.org>
  asomers <asom...@freebsd.org>
  bz <b...@freebsd.org>
  cy <c...@freebsd.org>
  delphij <delp...@freebsd.org>
  gnn <g...@freebsd.org>
  jhb <j...@freebsd.org>
  jhibbits <jhibb...@freebsd.org>
  kevans <kev...@freebsd.org>
  kib <k...@freebsd.org>
  markj <ma...@freebsd.org>
  mav <m...@freebsd.org>
  rrs <r...@freebsd.org>
  takawata <takaw...@freebsd.org>

jobs:
 build-amd64-freebsd-again                                    pass    
 build-amd64-freebsd                                          pass    
 build-amd64-xen-freebsd                                      pass    


------------------------------------------------------------
sg-report-flight on osstest.test-lab.xenproject.org
logs: /home/logs/logs
images: /home/logs/images

Logs, config files, etc. are available at
    http://logs.test-lab.xenproject.org/osstest/logs

Explanation of these reports, and of osstest in general, is at
    http://xenbits.xen.org/gitweb/?p=osstest.git;a=blob;f=README.email;hb=master
    http://xenbits.xen.org/gitweb/?p=osstest.git;a=blob;f=README;hb=master

Test harness code can be found at
    http://xenbits.xen.org/gitweb?p=osstest.git;a=summary


Pushing revision :

To xenbits.xen.org:/home/xen/git/freebsd.git
   f66d5bcdd26..17a1fc80d57  17a1fc80d578803ae6318e7e297fc0b5605fba29 -> 
tested/master

_______________________________________________
Xen-devel mailing list
Xen-devel@lists.xenproject.org
https://lists.xenproject.org/mailman/listinfo/xen-devel

Reply via email to