flight 139637 freebsd-master real [real]
http://logs.test-lab.xenproject.org/osstest/logs/139637/

Perfect :-)
All tests in this flight passed as required
version targeted for testing:
 freebsd              f66d5bcdd266eb22421e6f81a8f4530d1627b4a8
baseline version:
 freebsd              58ae190bd3c0e785e5895867257c9926915fb818

Last test of basis   139559  2019-07-31 09:19:32 Z    2 days
Testing same since   139637  2019-08-02 09:20:08 Z    0 days    1 attempts

------------------------------------------------------------
People who touched revisions under test:
  bz <b...@freebsd.org>
  delphij <delp...@freebsd.org>
  emaste <ema...@freebsd.org>
  Eric Joyner <e...@freebsd.org>
  erj <e...@freebsd.org>
  Jacob Keller <jacob.e.kel...@intel.com>
  jhibbits <jhibb...@freebsd.org>
  jkim <j...@freebsd.org>
  kevans <kev...@freebsd.org>
  kib <k...@freebsd.org>
  luporl <lup...@freebsd.org>
  lwhsu <lw...@freebsd.org>
  markj <ma...@freebsd.org>
  mav <m...@freebsd.org>
  mckusick <mckus...@freebsd.org>
  oshogbo <osho...@freebsd.org>
  rmacklem <rmack...@freebsd.org>
  rrs <r...@freebsd.org>
  tuexen <tue...@freebsd.org>
  wosch <wo...@freebsd.org>

jobs:
 build-amd64-freebsd-again                                    pass    
 build-amd64-freebsd                                          pass    
 build-amd64-xen-freebsd                                      pass    


------------------------------------------------------------
sg-report-flight on osstest.test-lab.xenproject.org
logs: /home/logs/logs
images: /home/logs/images

Logs, config files, etc. are available at
    http://logs.test-lab.xenproject.org/osstest/logs

Explanation of these reports, and of osstest in general, is at
    http://xenbits.xen.org/gitweb/?p=osstest.git;a=blob;f=README.email;hb=master
    http://xenbits.xen.org/gitweb/?p=osstest.git;a=blob;f=README;hb=master

Test harness code can be found at
    http://xenbits.xen.org/gitweb?p=osstest.git;a=summary


Pushing revision :

To xenbits.xen.org:/home/xen/git/freebsd.git
   58ae190bd3c..f66d5bcdd26  f66d5bcdd266eb22421e6f81a8f4530d1627b4a8 -> 
tested/master

_______________________________________________
Xen-devel mailing list
Xen-devel@lists.xenproject.org
https://lists.xenproject.org/mailman/listinfo/xen-devel

Reply via email to