flight 138886 freebsd-master real [real] http://logs.test-lab.xenproject.org/osstest/logs/138886/
Perfect :-) All tests in this flight passed as required version targeted for testing: freebsd 5c4a9b0e32c1f9c47d5b687d6036bb03c3cc071c baseline version: freebsd 14e63f898b16382f4577cfea211a7fb5ad7983e9 Last test of basis 138540 2019-06-26 09:23:06 Z 14 days Failing since 138606 2019-06-28 09:19:28 Z 12 days 6 attempts Testing same since 138886 2019-07-10 09:19:38 Z 0 days 1 attempts ------------------------------------------------------------ People who touched revisions under test: alc <a...@freebsd.org> arichardson <arichard...@freebsd.org> asomers <asom...@freebsd.org> avg <a...@freebsd.org> bcran <bc...@freebsd.org> bdrewery <bdrew...@freebsd.org> br <b...@freebsd.org> cognet <cog...@freebsd.org> cy <c...@freebsd.org> delphij <delp...@freebsd.org> des <d...@freebsd.org> dim <d...@freebsd.org> dougm <do...@freebsd.org> emaste <ema...@freebsd.org> fsu <f...@freebsd.org> ganbold <ganb...@freebsd.org> hrs <h...@freebsd.org> hselasky <hsela...@freebsd.org> ian <i...@freebsd.org> imp <i...@freebsd.org> jhb <j...@freebsd.org> jhibbits <jhibb...@freebsd.org> jkim <j...@freebsd.org> kevans <kev...@freebsd.org> kib <k...@freebsd.org> landonf <land...@freebsd.org> loos <l...@freebsd.org> luporl <lup...@freebsd.org> lwhsu <lw...@freebsd.org> manu <m...@freebsd.org> marcel <mar...@freebsd.org> marius <mar...@freebsd.org> markj <ma...@freebsd.org> mav <m...@freebsd.org> mckusick <mckus...@freebsd.org> meta <m...@freebsd.org> mhorne <mho...@freebsd.org> mm <m...@freebsd.org> np <n...@freebsd.org> philip <phi...@freebsd.org> rgrimes <rgri...@freebsd.org> rlibby <rli...@freebsd.org> rmacklem <rmack...@freebsd.org> seanc <se...@freebsd.org> sjg <s...@freebsd.org> tijl <t...@freebsd.org> trasz <tr...@freebsd.org> tsoome <tso...@freebsd.org> vangyzen <vangy...@freebsd.org> vmaffione <vmaffi...@freebsd.org> wblock <wbl...@freebsd.org> whu <w...@freebsd.org> zeising <zeis...@freebsd.org> jobs: build-amd64-freebsd-again pass build-amd64-freebsd pass build-amd64-xen-freebsd pass ------------------------------------------------------------ sg-report-flight on osstest.test-lab.xenproject.org logs: /home/logs/logs images: /home/logs/images Logs, config files, etc. are available at http://logs.test-lab.xenproject.org/osstest/logs Explanation of these reports, and of osstest in general, is at http://xenbits.xen.org/gitweb/?p=osstest.git;a=blob;f=README.email;hb=master http://xenbits.xen.org/gitweb/?p=osstest.git;a=blob;f=README;hb=master Test harness code can be found at http://xenbits.xen.org/gitweb?p=osstest.git;a=summary Pushing revision : To xenbits.xen.org:/home/xen/git/freebsd.git 14e63f898b1..5c4a9b0e32c 5c4a9b0e32c1f9c47d5b687d6036bb03c3cc071c -> tested/master _______________________________________________ Xen-devel mailing list Xen-devel@lists.xenproject.org https://lists.xenproject.org/mailman/listinfo/xen-devel