flight 137519 xen-unstable-coverity real [real]
http://logs.test-lab.xenproject.org/osstest/logs/137519/

Perfect :-)
All tests in this flight passed as required
version targeted for testing:
 xen                  c0666fab19ea1523fbcae57d8362d94e06b21f98
baseline version:
 xen                  ff7e72a1cac7dfe33ea3c5a528debcead18e0b22

Last test of basis   137352  2019-06-05 09:21:58 Z    4 days
Testing same since   137519  2019-06-09 09:18:37 Z    0 days    1 attempts

------------------------------------------------------------
People who touched revisions under test:
  Andrew Cooper <andrew.coop...@citrix.com>
  Feng Kan <feng...@os.amperecomputing.com>
  Jan Beulich <jbeul...@suse.com>
  Julien Grall <julien.gr...@arm.com>
  Pu Wen <pu...@hygon.cn>
  Stefano Stabellini <sstabell...@kernel.org>
  Stefano Stabellini <stefa...@xilinx.com>
  Vishnu <vis...@os.amperecomputing.com>
  Vishnu Pajjuri OS <vis...@os.amperecomputing.com>
  Volodymyr Babchuk <volodymyr_babc...@epam.com>
  Wei Liu <wei.l...@citrix.com>

jobs:
 coverity-amd64                                               pass    


------------------------------------------------------------
sg-report-flight on osstest.test-lab.xenproject.org
logs: /home/logs/logs
images: /home/logs/images

Logs, config files, etc. are available at
    http://logs.test-lab.xenproject.org/osstest/logs

Explanation of these reports, and of osstest in general, is at
    http://xenbits.xen.org/gitweb/?p=osstest.git;a=blob;f=README.email;hb=master
    http://xenbits.xen.org/gitweb/?p=osstest.git;a=blob;f=README;hb=master

Test harness code can be found at
    http://xenbits.xen.org/gitweb?p=osstest.git;a=summary


Pushing revision :

To xenbits.xen.org:/home/xen/git/xen.git
   ff7e72a1ca..c0666fab19  c0666fab19ea1523fbcae57d8362d94e06b21f98 -> 
coverity-tested/smoke

_______________________________________________
Xen-devel mailing list
Xen-devel@lists.xenproject.org
https://lists.xenproject.org/mailman/listinfo/xen-devel

Reply via email to