flight 137434 freebsd-master real [real]
http://logs.test-lab.xenproject.org/osstest/logs/137434/

Perfect :-)
All tests in this flight passed as required
version targeted for testing:
 freebsd              8ebeb68c968b3853a76118b32523d3d7f68896de
baseline version:
 freebsd              aab5f5a3bd55421fa6a8dbc05332a9b9fb49992c

Last test of basis   136901  2019-05-24 13:32:05 Z   15 days
Failing since        137005  2019-05-27 09:19:12 Z   12 days    6 attempts
Testing same since   137434  2019-06-07 09:19:12 Z    1 days    1 attempts

------------------------------------------------------------
People who touched revisions under test:
  0mp <0...@freebsd.org>
  adrian <adr...@freebsd.org>
  adridg <adr...@freebsd.org>
  ae <a...@freebsd.org>
  alc <a...@freebsd.org>
  allanjude <allanj...@freebsd.org>
  andrew <and...@freebsd.org>
  arrowd <arr...@freebsd.org>
  asomers <asom...@freebsd.org>
  avg <a...@freebsd.org>
  bcran <bc...@freebsd.org>
  bdragon <bdra...@freebsd.org>
  br <b...@freebsd.org>
  brooks <bro...@freebsd.org>
  bz <b...@freebsd.org>
  carlavilla <carlavi...@freebsd.org>
  cem <c...@freebsd.org>
  cperciva <cperc...@freebsd.org>
  cy <c...@freebsd.org>
  danfe <da...@freebsd.org>
  dchagin <dcha...@freebsd.org>
  delphij <delp...@freebsd.org>
  dim <d...@freebsd.org>
  dougm <do...@freebsd.org>
  emaste <ema...@freebsd.org>
  erj <e...@freebsd.org>
  gjb <g...@freebsd.org>
  glebius <gleb...@freebsd.org>
  hselasky <hsela...@freebsd.org>
  ian <i...@freebsd.org>
  imp <i...@freebsd.org>
  jchandra <jchan...@freebsd.org>
  jhb <j...@freebsd.org>
  jhibbits <jhibb...@freebsd.org>
  jkim <j...@freebsd.org>
  johalun <joha...@freebsd.org>
  ken <k...@freebsd.org>
  kevans <kev...@freebsd.org>
  kib <k...@freebsd.org>
  loos <l...@freebsd.org>
  luporl <lup...@freebsd.org>
  lwhsu <lw...@freebsd.org>
  markj <ma...@freebsd.org>
  mav <m...@freebsd.org>
  mckusick <mckus...@freebsd.org>
  meta <m...@freebsd.org>
  mizhka <miz...@freebsd.org>
  mw <m...@freebsd.org>
  np <n...@freebsd.org>
  oshogbo <osho...@freebsd.org>
  pfg <p...@freebsd.org>
  pkubaj <pku...@freebsd.org>
  rgrimes <rgri...@freebsd.org>
  rlibby <rli...@freebsd.org>
  rmacklem <rmack...@freebsd.org>
  rpokala <rpok...@freebsd.org>
  ru <r...@freebsd.org>
  scottph <scot...@freebsd.org>
  sef <s...@freebsd.org>
  sjg <s...@freebsd.org>
  slavash <slav...@freebsd.org>
  sobomax <sobo...@freebsd.org>
  trasz <tr...@freebsd.org>
  tsoome <tso...@freebsd.org>
  tuexen <tue...@freebsd.org>
  tychon <tyc...@freebsd.org>
  vmaffione <vmaffi...@freebsd.org>
  wulf <w...@freebsd.org>

jobs:
 build-amd64-freebsd-again                                    pass    
 build-amd64-freebsd                                          pass    
 build-amd64-xen-freebsd                                      pass    


------------------------------------------------------------
sg-report-flight on osstest.test-lab.xenproject.org
logs: /home/logs/logs
images: /home/logs/images

Logs, config files, etc. are available at
    http://logs.test-lab.xenproject.org/osstest/logs

Explanation of these reports, and of osstest in general, is at
    http://xenbits.xen.org/gitweb/?p=osstest.git;a=blob;f=README.email;hb=master
    http://xenbits.xen.org/gitweb/?p=osstest.git;a=blob;f=README;hb=master

Test harness code can be found at
    http://xenbits.xen.org/gitweb?p=osstest.git;a=summary


Pushing revision :

To xenbits.xen.org:/home/xen/git/freebsd.git
   aab5f5a3bd5..8ebeb68c968  8ebeb68c968b3853a76118b32523d3d7f68896de -> 
tested/master

_______________________________________________
Xen-devel mailing list
Xen-devel@lists.xenproject.org
https://lists.xenproject.org/mailman/listinfo/xen-devel

Reply via email to