flight 134889 ovmf real [real] http://logs.test-lab.xenproject.org/osstest/logs/134889/
Perfect :-) All tests in this flight passed as required version targeted for testing: ovmf 0eccea3fbe2f6d4999d972d9310d4f2717f5100c baseline version: ovmf e0fd9ece26c9b84a1a756a869ff2a4525e23ab33 Last test of basis 134640 2019-04-11 13:15:51 Z 5 days Failing since 134738 2019-04-13 03:33:26 Z 4 days 10 attempts Testing same since 134852 2019-04-16 06:41:35 Z 0 days 5 attempts ------------------------------------------------------------ People who touched revisions under test: Ard Biesheuvel <ard.biesheu...@linaro.org> Bret Barkelew <bret.barke...@microsoft.com> Chasel Chiu <chasel.c...@intel.com> Chasel, Chiu <chasel.c...@intel.com> Christian Rodriguez <christian.rodrig...@intel.com> Dandan Bi <dandan...@intel.com> Dong, Guo <guo.d...@intel.com> Fan, ZhijuX <zhijux....@intel.com> Guo Dong <guo.d...@intel.com> Kinney, Michael D <michael.d.kin...@intel.com> Laszlo Ersek <ler...@redhat.com> Michael D Kinney <michael.d.kin...@intel.com> Rodriguez, Christian <christian.rodrig...@intel.com> Shenglei Zhang <shenglei.zh...@intel.com> Zhichao Gao <zhichao....@intel.com> Zhiju.Fan <zhijux....@intel.com> jobs: build-amd64-xsm pass build-i386-xsm pass build-amd64 pass build-i386 pass build-amd64-libvirt pass build-i386-libvirt pass build-amd64-pvops pass build-i386-pvops pass test-amd64-amd64-xl-qemuu-ovmf-amd64 pass test-amd64-i386-xl-qemuu-ovmf-amd64 pass ------------------------------------------------------------ sg-report-flight on osstest.test-lab.xenproject.org logs: /home/logs/logs images: /home/logs/images Logs, config files, etc. are available at http://logs.test-lab.xenproject.org/osstest/logs Explanation of these reports, and of osstest in general, is at http://xenbits.xen.org/gitweb/?p=osstest.git;a=blob;f=README.email;hb=master http://xenbits.xen.org/gitweb/?p=osstest.git;a=blob;f=README;hb=master Test harness code can be found at http://xenbits.xen.org/gitweb?p=osstest.git;a=summary Pushing revision : To xenbits.xen.org:/home/xen/git/osstest/ovmf.git e0fd9ece26..0eccea3fbe 0eccea3fbe2f6d4999d972d9310d4f2717f5100c -> xen-tested-master _______________________________________________ Xen-devel mailing list Xen-devel@lists.xenproject.org https://lists.xenproject.org/mailman/listinfo/xen-devel