flight 134346 ovmf real [real] http://logs.test-lab.xenproject.org/osstest/logs/134346/
Perfect :-) All tests in this flight passed as required version targeted for testing: ovmf 7ed72121b753a7493a8c5bf3711b5efbc5e80491 baseline version: ovmf b02873340b2de5c2fe8325d22214cd3a5b21c5e5 Last test of basis 134282 2019-04-02 02:41:31 Z 3 days Testing same since 134346 2019-04-03 14:13:47 Z 1 days 1 attempts ------------------------------------------------------------ People who touched revisions under test: Bret Barkelew <bret.barke...@microsoft.com> Laszlo Ersek <ler...@redhat.com> Liming Gao <liming....@intel.com> Shenglei Zhang <shenglei.zh...@intel.com> Zhang, Shenglei <shenglei.zh...@intel.com> Zhichao Gao <zhichao....@intel.com> jobs: build-amd64-xsm pass build-i386-xsm pass build-amd64 pass build-i386 pass build-amd64-libvirt pass build-i386-libvirt pass build-amd64-pvops pass build-i386-pvops pass test-amd64-amd64-xl-qemuu-ovmf-amd64 pass test-amd64-i386-xl-qemuu-ovmf-amd64 pass ------------------------------------------------------------ sg-report-flight on osstest.test-lab.xenproject.org logs: /home/logs/logs images: /home/logs/images Logs, config files, etc. are available at http://logs.test-lab.xenproject.org/osstest/logs Explanation of these reports, and of osstest in general, is at http://xenbits.xen.org/gitweb/?p=osstest.git;a=blob;f=README.email;hb=master http://xenbits.xen.org/gitweb/?p=osstest.git;a=blob;f=README;hb=master Test harness code can be found at http://xenbits.xen.org/gitweb?p=osstest.git;a=summary Pushing revision : To xenbits.xen.org:/home/xen/git/osstest/ovmf.git b02873340b..7ed72121b7 7ed72121b753a7493a8c5bf3711b5efbc5e80491 -> xen-tested-master _______________________________________________ Xen-devel mailing list Xen-devel@lists.xenproject.org https://lists.xenproject.org/mailman/listinfo/xen-devel