flight 133970 ovmf real [real] http://logs.test-lab.xenproject.org/osstest/logs/133970/
Perfect :-) All tests in this flight passed as required version targeted for testing: ovmf 6c27a4d337d0034cecf9f2c05d1f20c342d41e01 baseline version: ovmf fbdfef35cb82b3e0beed2ceb0243ef129d2e55ce Last test of basis 133938 2019-03-20 02:52:19 Z 2 days Testing same since 133970 2019-03-21 06:43:52 Z 1 days 1 attempts ------------------------------------------------------------ People who touched revisions under test: David Wei <david....@intel.com> Ming Huang <ming.hu...@linaro.org> Sami Mujawar <sami.muja...@arm.com> Zailiang Sun <zailiang....@intel.com> jobs: build-amd64-xsm pass build-i386-xsm pass build-amd64 pass build-i386 pass build-amd64-libvirt pass build-i386-libvirt pass build-amd64-pvops pass build-i386-pvops pass test-amd64-amd64-xl-qemuu-ovmf-amd64 pass test-amd64-i386-xl-qemuu-ovmf-amd64 pass ------------------------------------------------------------ sg-report-flight on osstest.test-lab.xenproject.org logs: /home/logs/logs images: /home/logs/images Logs, config files, etc. are available at http://logs.test-lab.xenproject.org/osstest/logs Explanation of these reports, and of osstest in general, is at http://xenbits.xen.org/gitweb/?p=osstest.git;a=blob;f=README.email;hb=master http://xenbits.xen.org/gitweb/?p=osstest.git;a=blob;f=README;hb=master Test harness code can be found at http://xenbits.xen.org/gitweb?p=osstest.git;a=summary Pushing revision : To xenbits.xen.org:/home/xen/git/osstest/ovmf.git fbdfef35cb..6c27a4d337 6c27a4d337d0034cecf9f2c05d1f20c342d41e01 -> xen-tested-master _______________________________________________ Xen-devel mailing list Xen-devel@lists.xenproject.org https://lists.xenproject.org/mailman/listinfo/xen-devel