flight 133944 freebsd-master real [real]
http://logs.test-lab.xenproject.org/osstest/logs/133944/

Perfect :-)
All tests in this flight passed as required
version targeted for testing:
 freebsd              4a9d286decd81333b85f908e650cd4e81adaa93e
baseline version:
 freebsd              b24a98cb7ea88b59c90e29449588acb7839a747a

Last test of basis   133898  2019-03-18 09:19:04 Z    3 days
Testing same since   133944  2019-03-20 09:19:24 Z    1 days    1 attempts

------------------------------------------------------------
People who touched revisions under test:
  adrian <adr...@freebsd.org>
  ae <a...@freebsd.org>
  avos <a...@freebsd.org>
  cperciva <cperc...@freebsd.org>
  dim <d...@freebsd.org>
  emaste <ema...@freebsd.org>
  erj <e...@freebsd.org>
  gallatin <galla...@freebsd.org>
  imp <i...@freebsd.org>
  kevans <kev...@freebsd.org>
  lidl <l...@freebsd.org>
  mmel <m...@freebsd.org>
  mw <m...@freebsd.org>
  np <n...@freebsd.org>
  vmaffione <vmaffi...@freebsd.org>
  wosch <wo...@freebsd.org>

jobs:
 build-amd64-freebsd-again                                    pass    
 build-amd64-freebsd                                          pass    
 build-amd64-xen-freebsd                                      pass    


------------------------------------------------------------
sg-report-flight on osstest.test-lab.xenproject.org
logs: /home/logs/logs
images: /home/logs/images

Logs, config files, etc. are available at
    http://logs.test-lab.xenproject.org/osstest/logs

Explanation of these reports, and of osstest in general, is at
    http://xenbits.xen.org/gitweb/?p=osstest.git;a=blob;f=README.email;hb=master
    http://xenbits.xen.org/gitweb/?p=osstest.git;a=blob;f=README;hb=master

Test harness code can be found at
    http://xenbits.xen.org/gitweb?p=osstest.git;a=summary


Pushing revision :

To xenbits.xen.org:/home/xen/git/freebsd.git
   b24a98cb7ea..4a9d286decd  4a9d286decd81333b85f908e650cd4e81adaa93e -> 
tested/master

_______________________________________________
Xen-devel mailing list
Xen-devel@lists.xenproject.org
https://lists.xenproject.org/mailman/listinfo/xen-devel

Reply via email to