flight 133557 xen-unstable-coverity real [real]
http://logs.test-lab.xenproject.org/osstest/logs/133557/

Perfect :-)
All tests in this flight passed as required
version targeted for testing:
 xen                  f393b82fe5ba3ed9cfe2b306ffa53368e55b75af
baseline version:
 xen                  e72ecc7615410e5bf1a1c9a4c7772322c16eeb82

Last test of basis   133408  2019-02-24 09:18:29 Z    7 days
Testing same since   133557  2019-03-03 09:30:21 Z    0 days    1 attempts

------------------------------------------------------------
People who touched revisions under test:
  Andrew Cooper <andrew.coop...@citrix.com>
  Christian Lindig <christian.lin...@citrix.com>
  George Dunlap <george.dun...@citrix.com>
  Ian Jackson <ian.jack...@eu.citrix.com>
  Igor Druzhinin <igor.druzhi...@citrix.com>
  Jan Beulich <jbeul...@suse.com>
  Julien Grall <julien.gr...@arm.com>
  Kevin Tian <kevin.t...@intel.com>
  Norbert Manthey <nmant...@amazon.de>
  Paul Durrant <paul.durr...@citrix.com>
  Razvan Cojocaru <rcojoc...@bitdefender.com>
  Roger Pau Monne <roger....@citrix.com>
  Roger Pau Monné <roger....@citrix.com>
  Tim Deegan <t...@xen.org>
  Wei Liu <wei.l...@citrix.com>

jobs:
 coverity-amd64                                               pass    


------------------------------------------------------------
sg-report-flight on osstest.test-lab.xenproject.org
logs: /home/logs/logs
images: /home/logs/images

Logs, config files, etc. are available at
    http://logs.test-lab.xenproject.org/osstest/logs

Explanation of these reports, and of osstest in general, is at
    http://xenbits.xen.org/gitweb/?p=osstest.git;a=blob;f=README.email;hb=master
    http://xenbits.xen.org/gitweb/?p=osstest.git;a=blob;f=README;hb=master

Test harness code can be found at
    http://xenbits.xen.org/gitweb?p=osstest.git;a=summary


Pushing revision :

To xenbits.xen.org:/home/xen/git/xen.git
   e72ecc7615..f393b82fe5  f393b82fe5ba3ed9cfe2b306ffa53368e55b75af -> 
coverity-tested/smoke

_______________________________________________
Xen-devel mailing list
Xen-devel@lists.xenproject.org
https://lists.xenproject.org/mailman/listinfo/xen-devel

Reply via email to