flight 133445 ovmf real [real] http://logs.test-lab.xenproject.org/osstest/logs/133445/
Failures and problems with tests :-( Tests which did not succeed and are blocking, including tests which could not be run: build-amd64-pvops <job status> broken build-i386-pvops <job status> broken build-i386 <job status> broken build-i386-xsm <job status> broken build-amd64-xsm <job status> broken build-amd64 <job status> broken build-i386 4 host-install(4) broken REGR. vs. 133291 build-amd64-xsm 4 host-install(4) broken REGR. vs. 133291 build-amd64-pvops 4 host-install(4) broken REGR. vs. 133291 build-amd64 4 host-install(4) broken REGR. vs. 133291 build-i386-xsm 4 host-install(4) broken REGR. vs. 133291 build-i386-pvops 4 host-install(4) broken REGR. vs. 133291 Tests which did not succeed, but are not blocking: test-amd64-amd64-xl-qemuu-ovmf-amd64 1 build-check(1) blocked n/a build-amd64-libvirt 1 build-check(1) blocked n/a build-i386-libvirt 1 build-check(1) blocked n/a test-amd64-i386-xl-qemuu-ovmf-amd64 1 build-check(1) blocked n/a version targeted for testing: ovmf 7d180efeaa03df25973416dc0aad099f4fe7e251 baseline version: ovmf c417c1b33d06ef6ae96adb373201a5a3c3b38772 Last test of basis 133291 2019-02-18 01:41:15 Z 9 days Failing since 133305 2019-02-19 00:41:21 Z 8 days 9 attempts Testing same since 133445 2019-02-26 19:39:44 Z 0 days 1 attempts ------------------------------------------------------------ People who touched revisions under test: Albecki Mateusz <mateusz.albe...@intel.com> Albecki, Mateusz </o=Intel/ou=Exchange Administrative Group (FYDIBOHF23SPDLT)/cn=Recipients/cn=Albecki, Mateusz3be> Anthony PERARD <anthony.per...@citrix.com> Ard Biesheuvel <ard.biesheu...@linaro.org> Ashish Singhal <ashishsin...@nvidia.com> Bob Feng <bob.c.f...@intel.com> Chasel Chiu <chasel.c...@intel.com> Chasel, Chiu <chasel.c...@intel.com> Chen A Chen <chen.a.c...@intel.com> Dandan Bi <dandan...@intel.com> Edgar Handal <ehan...@nvidia.com> Fan, ZhijuX <zhijux....@intel.com> Feng, Bob C <bob.c.f...@intel.com> Gonzalez Del Cueto, Rodrigo <rodrigo.gonzalez.del.cu...@intel.com> Hao Wu <hao.a...@intel.com> Jeff Brasen <jbra...@nvidia.com> Jian J Wang <jian.j.w...@intel.com> Jiaxin Wu <jiaxin...@intel.com> Jiewen Yao <jiewen....@intel.com> Jordan Justen <jordan.l.jus...@intel.com> Julien Grall <julien.gr...@arm.com> Laszlo Ersek <ler...@redhat.com> Liming Gao <liming....@intel.com> Max Knutsen <maknu...@microsoft.com> Pete Batard <p...@akeo.ie> Ray Ni <ray...@intel.com> Rodrigo Gonzalez del Cueto <rodrigo.gonzalez.del.cu...@intel.com> Ruiyu Ni <ruiyu...@intel.com> Sami Mujawar <sami.muja...@arm.com> Shenglei Zhang <shenglei.zh...@intel.com> Star Zeng <star.z...@intel.com> Wu Jiaxin <jiaxin...@intel.com> Zhichao Gao <zhichao....@intel.com> Zhiju.Fan <zhijux....@intel.com> jobs: build-amd64-xsm broken build-i386-xsm broken build-amd64 broken build-i386 broken build-amd64-libvirt blocked build-i386-libvirt blocked build-amd64-pvops broken build-i386-pvops broken test-amd64-amd64-xl-qemuu-ovmf-amd64 blocked test-amd64-i386-xl-qemuu-ovmf-amd64 blocked ------------------------------------------------------------ sg-report-flight on osstest.test-lab.xenproject.org logs: /home/logs/logs images: /home/logs/images Logs, config files, etc. are available at http://logs.test-lab.xenproject.org/osstest/logs Explanation of these reports, and of osstest in general, is at http://xenbits.xen.org/gitweb/?p=osstest.git;a=blob;f=README.email;hb=master http://xenbits.xen.org/gitweb/?p=osstest.git;a=blob;f=README;hb=master Test harness code can be found at http://xenbits.xen.org/gitweb?p=osstest.git;a=summary broken-job build-amd64-pvops broken broken-job build-i386-pvops broken broken-job build-i386 broken broken-job build-i386-xsm broken broken-job build-amd64-xsm broken broken-job build-amd64 broken broken-step build-i386 host-install(4) broken-step build-amd64-xsm host-install(4) broken-step build-amd64-pvops host-install(4) broken-step build-amd64 host-install(4) broken-step build-i386-xsm host-install(4) broken-step build-i386-pvops host-install(4) Not pushing. (No revision log; it would be 2265 lines long.) _______________________________________________ Xen-devel mailing list Xen-devel@lists.xenproject.org https://lists.xenproject.org/mailman/listinfo/xen-devel