flight 131955 freebsd-master real [real] http://logs.test-lab.xenproject.org/osstest/logs/131955/
Failures and problems with tests :-( Tests which did not succeed and are blocking, including tests which could not be run: build-amd64-freebsd <job status> broken build-amd64-freebsd 5 host-install(5) broken REGR. vs. 131783 Tests which did not succeed, but are not blocking: build-amd64-xen-freebsd 1 build-check(1) blocked n/a build-amd64-freebsd-again 1 build-check(1) blocked n/a version targeted for testing: freebsd 05dc4d60c8e036139ddd0d27118b45d9e681c7ce baseline version: freebsd 2a52bc55467e95f92e1024cd558df3930df99594 Last test of basis 131783 2019-01-07 09:19:04 Z 7 days Failing since 131876 2019-01-09 09:19:19 Z 5 days 3 attempts Testing same since 131955 2019-01-14 09:19:32 Z 0 days 1 attempts ------------------------------------------------------------ People who touched revisions under test: 0mp <0...@freebsd.org> ae <a...@freebsd.org> allanjude <allanj...@freebsd.org> andrew <and...@freebsd.org> arichardson <arichard...@freebsd.org> avos <a...@freebsd.org> bapt <b...@freebsd.org> brooks <bro...@freebsd.org> cem <c...@freebsd.org> chuck <ch...@freebsd.org> cognet <cog...@freebsd.org> cperciva <cperc...@freebsd.org> cy <c...@freebsd.org> delphij <delp...@freebsd.org> des <d...@freebsd.org> emaste <ema...@freebsd.org> fsu <f...@freebsd.org> glebius <gleb...@freebsd.org> gonzo <go...@freebsd.org> hselasky <hsela...@freebsd.org> ian <i...@freebsd.org> imp <i...@freebsd.org> jah <j...@freebsd.org> jhibbits <jhibb...@freebsd.org> jkim <j...@freebsd.org> kevans <kev...@freebsd.org> kib <k...@freebsd.org> kp <k...@freebsd.org> lme <l...@freebsd.org> manu <m...@freebsd.org> markj <ma...@freebsd.org> ngie <n...@freebsd.org> np <n...@freebsd.org> nyan <n...@freebsd.org> pfg <p...@freebsd.org> pjd <p...@freebsd.org> ram <r...@freebsd.org> rgrimes <rgri...@freebsd.org> sef <s...@freebsd.org> shurd <sh...@freebsd.org> trasz <tr...@freebsd.org> tuexen <tue...@freebsd.org> vmaffione <vmaffi...@freebsd.org> jobs: build-amd64-freebsd-again blocked build-amd64-freebsd broken build-amd64-xen-freebsd blocked ------------------------------------------------------------ sg-report-flight on osstest.test-lab.xenproject.org logs: /home/logs/logs images: /home/logs/images Logs, config files, etc. are available at http://logs.test-lab.xenproject.org/osstest/logs Explanation of these reports, and of osstest in general, is at http://xenbits.xen.org/gitweb/?p=osstest.git;a=blob;f=README.email;hb=master http://xenbits.xen.org/gitweb/?p=osstest.git;a=blob;f=README;hb=master Test harness code can be found at http://xenbits.xen.org/gitweb?p=osstest.git;a=summary broken-job build-amd64-freebsd broken broken-step build-amd64-freebsd host-install(5) Not pushing. (No revision log; it would be 1412 lines long.) _______________________________________________ Xen-devel mailing list Xen-devel@lists.xenproject.org https://lists.xenproject.org/mailman/listinfo/xen-devel