flight 131440 freebsd-master real [real] http://logs.test-lab.xenproject.org/osstest/logs/131440/
Perfect :-) All tests in this flight passed as required version targeted for testing: freebsd 204d7bf6cddd87478f9c1a6bb55f482d87cf2eaa baseline version: freebsd 3e1a7746aea6fdb1e8d2c05b498bea3d1dc400b3 Last test of basis 131388 2018-12-17 09:19:10 Z 2 days Testing same since 131440 2018-12-19 09:19:49 Z 0 days 1 attempts ------------------------------------------------------------ People who touched revisions under test: asomers <asom...@freebsd.org> avg <a...@freebsd.org> avos <a...@freebsd.org> brooks <bro...@freebsd.org> cy <c...@freebsd.org> dab <d...@freebsd.org> glebius <gleb...@freebsd.org> imp <i...@freebsd.org> markj <ma...@freebsd.org> np <n...@freebsd.org> peter <pe...@freebsd.org> se <s...@freebsd.org> sobomax <sobo...@freebsd.org> jobs: build-amd64-freebsd-again pass build-amd64-freebsd pass build-amd64-xen-freebsd pass ------------------------------------------------------------ sg-report-flight on osstest.test-lab.xenproject.org logs: /home/logs/logs images: /home/logs/images Logs, config files, etc. are available at http://logs.test-lab.xenproject.org/osstest/logs Explanation of these reports, and of osstest in general, is at http://xenbits.xen.org/gitweb/?p=osstest.git;a=blob;f=README.email;hb=master http://xenbits.xen.org/gitweb/?p=osstest.git;a=blob;f=README;hb=master Test harness code can be found at http://xenbits.xen.org/gitweb?p=osstest.git;a=summary Pushing revision : To xenbits.xen.org:/home/xen/git/freebsd.git 3e1a7746aea..204d7bf6cdd 204d7bf6cddd87478f9c1a6bb55f482d87cf2eaa -> tested/master _______________________________________________ Xen-devel mailing list Xen-devel@lists.xenproject.org https://lists.xenproject.org/mailman/listinfo/xen-devel