flight 128413 freebsd-master real [real] http://logs.test-lab.xenproject.org/osstest/logs/128413/
Perfect :-) All tests in this flight passed as required version targeted for testing: freebsd 8f45b071b58d4a00be551ddcc52e78a06ed6fbc7 baseline version: freebsd a16e14a2bb879c082d379f9ca2f201e993960b85 Last test of basis 128339 2018-10-03 09:19:05 Z 2 days Testing same since 128413 2018-10-05 09:19:12 Z 0 days 1 attempts ------------------------------------------------------------ People who touched revisions under test: 0mp <0...@freebsd.org> andreast <andre...@freebsd.org> brooks <bro...@freebsd.org> emaste <ema...@freebsd.org> gjb <g...@freebsd.org> glebius <gleb...@freebsd.org> gonzo <go...@freebsd.org> markj <ma...@freebsd.org> mjg <m...@freebsd.org> mmacy <mm...@freebsd.org> pjd <p...@freebsd.org> rstone <rst...@freebsd.org> jobs: build-amd64-freebsd-again pass build-amd64-freebsd pass build-amd64-xen-freebsd pass ------------------------------------------------------------ sg-report-flight on osstest.test-lab.xenproject.org logs: /home/logs/logs images: /home/logs/images Logs, config files, etc. are available at http://logs.test-lab.xenproject.org/osstest/logs Explanation of these reports, and of osstest in general, is at http://xenbits.xen.org/gitweb/?p=osstest.git;a=blob;f=README.email;hb=master http://xenbits.xen.org/gitweb/?p=osstest.git;a=blob;f=README;hb=master Test harness code can be found at http://xenbits.xen.org/gitweb?p=osstest.git;a=summary Pushing revision : To xenbits.xen.org:/home/xen/git/freebsd.git a16e14a2bb8..8f45b071b58 8f45b071b58d4a00be551ddcc52e78a06ed6fbc7 -> tested/master _______________________________________________ Xen-devel mailing list Xen-devel@lists.xenproject.org https://lists.xenproject.org/mailman/listinfo/xen-devel