flight 128277 freebsd-master real [real]
http://logs.test-lab.xenproject.org/osstest/logs/128277/

Perfect :-)
All tests in this flight passed as required
version targeted for testing:
 freebsd              04d432fdc0c15f2da76dac4a9a5caf1aeb051ef0
baseline version:
 freebsd              a62d8e729c6db95f0c2e1de618be0b0796c0a97a

Last test of basis   128102  2018-09-26 09:19:09 Z    5 days
Failing since        128168  2018-09-28 09:19:05 Z    3 days    2 attempts
Testing same since   128277  2018-10-01 09:19:04 Z    0 days    1 attempts

------------------------------------------------------------
People who touched revisions under test:
  0mp <0...@freebsd.org>
  ae <a...@freebsd.org>
  allanjude <allanj...@freebsd.org>
  andrew <and...@freebsd.org>
  bdrewery <bdrew...@freebsd.org>
  brooks <bro...@freebsd.org>
  bz <b...@freebsd.org>
  dim <d...@freebsd.org>
  emaste <ema...@freebsd.org>
  gjb <g...@freebsd.org>
  gonzo <go...@freebsd.org>
  gordon <gor...@freebsd.org>
  hselasky <hsela...@freebsd.org>
  imp <i...@freebsd.org>
  jhb <j...@freebsd.org>
  kib <k...@freebsd.org>
  mjg <m...@freebsd.org>
  np <n...@freebsd.org>
  sef <s...@freebsd.org>
  slavash <slav...@freebsd.org>
  tuexen <tue...@freebsd.org>
  ygy <y...@freebsd.org>

jobs:
 build-amd64-freebsd-again                                    pass    
 build-amd64-freebsd                                          pass    
 build-amd64-xen-freebsd                                      pass    


------------------------------------------------------------
sg-report-flight on osstest.test-lab.xenproject.org
logs: /home/logs/logs
images: /home/logs/images

Logs, config files, etc. are available at
    http://logs.test-lab.xenproject.org/osstest/logs

Explanation of these reports, and of osstest in general, is at
    http://xenbits.xen.org/gitweb/?p=osstest.git;a=blob;f=README.email;hb=master
    http://xenbits.xen.org/gitweb/?p=osstest.git;a=blob;f=README;hb=master

Test harness code can be found at
    http://xenbits.xen.org/gitweb?p=osstest.git;a=summary


Pushing revision :

To xenbits.xen.org:/home/xen/git/freebsd.git
   a62d8e729c6..04d432fdc0c  04d432fdc0c15f2da76dac4a9a5caf1aeb051ef0 -> 
tested/master

_______________________________________________
Xen-devel mailing list
Xen-devel@lists.xenproject.org
https://lists.xenproject.org/mailman/listinfo/xen-devel

Reply via email to