This run is configured for baseline tests only.

flight 75173 linux-3.18 real [real]
http://osstest.xensource.com/osstest/logs/75173/

Failures and problems with tests :-(

Tests which did not succeed and are blocking,
including tests which could not be run:
 build-amd64                     <job status>                 broken
 build-i386                      <job status>                 broken
 build-armhf-pvops               <job status>                 broken
 build-i386-xsm                  <job status>                 broken
 build-amd64-xsm                 <job status>                 broken
 build-amd64-pvops               <job status>                 broken
 build-i386-pvops                <job status>                 broken
 build-armhf                     <job status>                 broken
 build-armhf-pvops             4 host-install(4)         broken REGR. vs. 75151
 build-armhf                   4 host-install(4)         broken REGR. vs. 75151
 build-i386-pvops              4 host-install(4)         broken REGR. vs. 75151
 build-amd64                   4 host-install(4)         broken REGR. vs. 75151
 build-amd64-pvops             4 host-install(4)         broken REGR. vs. 75151
 build-amd64-xsm               4 host-install(4)         broken REGR. vs. 75151
 build-i386-xsm                4 host-install(4)         broken REGR. vs. 75151
 build-i386                    4 host-install(4)         broken REGR. vs. 75151

Tests which did not succeed, but are not blocking:
 test-amd64-amd64-xl-qemuu-debianhvm-amd64  1 build-check(1)        blocked n/a
 test-amd64-i386-freebsd10-i386  1 build-check(1)               blocked  n/a
 test-amd64-amd64-qemuu-nested-intel  1 build-check(1)              blocked n/a
 test-amd64-i386-libvirt-qemuu-debianhvm-amd64-xsm 1 build-check(1) blocked n/a
 test-amd64-amd64-xl-shadow    1 build-check(1)               blocked  n/a
 test-armhf-armhf-xl-midway    1 build-check(1)               blocked  n/a
 test-armhf-armhf-libvirt      1 build-check(1)               blocked  n/a
 test-amd64-i386-xl-qemuu-debianhvm-amd64-xsm  1 build-check(1)     blocked n/a
 test-amd64-i386-xl-qemut-debianhvm-amd64-xsm  1 build-check(1)     blocked n/a
 test-amd64-i386-xl-qemut-win10-i386  1 build-check(1)              blocked n/a
 test-amd64-amd64-xl-qemut-stubdom-debianhvm-amd64-xsm 1 build-check(1) blocked 
n/a
 test-amd64-i386-xl-qemuu-win10-i386  1 build-check(1)              blocked n/a
 test-armhf-armhf-libvirt-raw  1 build-check(1)               blocked  n/a
 test-amd64-i386-libvirt-xsm   1 build-check(1)               blocked  n/a
 test-amd64-amd64-xl-multivcpu  1 build-check(1)               blocked  n/a
 test-amd64-i386-xl-pvshim     1 build-check(1)               blocked  n/a
 test-amd64-i386-examine       1 build-check(1)               blocked  n/a
 test-amd64-amd64-libvirt      1 build-check(1)               blocked  n/a
 test-amd64-i386-xl-qemut-ws16-amd64  1 build-check(1)              blocked n/a
 test-amd64-amd64-xl-qemut-win10-i386  1 build-check(1)             blocked n/a
 test-amd64-i386-xl-qemut-debianhvm-amd64  1 build-check(1)         blocked n/a
 test-amd64-i386-qemut-rhel6hvm-intel  1 build-check(1)             blocked n/a
 test-amd64-i386-freebsd10-amd64  1 build-check(1)               blocked  n/a
 test-amd64-amd64-pair         1 build-check(1)               blocked  n/a
 test-armhf-armhf-xl-credit2   1 build-check(1)               blocked  n/a
 build-i386-rumprun            1 build-check(1)               blocked  n/a
 test-amd64-amd64-xl-qemuu-win10-i386  1 build-check(1)             blocked n/a
 test-amd64-amd64-xl-qemuu-win7-amd64  1 build-check(1)             blocked n/a
 test-amd64-amd64-libvirt-qemuu-debianhvm-amd64-xsm 1 build-check(1) blocked n/a
 test-amd64-amd64-pygrub       1 build-check(1)               blocked  n/a
 test-amd64-i386-xl-qemuu-ws16-amd64  1 build-check(1)              blocked n/a
 test-amd64-amd64-xl-qcow2     1 build-check(1)               blocked  n/a
 test-amd64-amd64-amd64-pvgrub  1 build-check(1)               blocked  n/a
 test-amd64-i386-xl-qemuu-dmrestrict-amd64-dmrestrict 1 build-check(1) blocked 
n/a
 test-amd64-amd64-xl-qemut-win7-amd64  1 build-check(1)             blocked n/a
 test-amd64-i386-xl-qemuu-debianhvm-amd64  1 build-check(1)         blocked n/a
 build-amd64-rumprun           1 build-check(1)               blocked  n/a
 build-i386-libvirt            1 build-check(1)               blocked  n/a
 test-amd64-i386-xl            1 build-check(1)               blocked  n/a
 test-amd64-i386-libvirt-pair  1 build-check(1)               blocked  n/a
 test-amd64-amd64-xl-qemuu-ovmf-amd64  1 build-check(1)             blocked n/a
 test-amd64-amd64-libvirt-vhd  1 build-check(1)               blocked  n/a
 test-amd64-amd64-xl-credit2   1 build-check(1)               blocked  n/a
 test-armhf-armhf-xl-multivcpu  1 build-check(1)               blocked  n/a
 test-amd64-i386-xl-xsm        1 build-check(1)               blocked  n/a
 build-amd64-libvirt           1 build-check(1)               blocked  n/a
 test-amd64-amd64-xl-pvshim    1 build-check(1)               blocked  n/a
 test-amd64-amd64-xl-qemuu-debianhvm-amd64-xsm  1 build-check(1)    blocked n/a
 test-amd64-amd64-rumprun-amd64  1 build-check(1)               blocked  n/a
 test-amd64-i386-xl-qemuu-ovmf-amd64  1 build-check(1)              blocked n/a
 test-amd64-i386-xl-raw        1 build-check(1)               blocked  n/a
 test-amd64-amd64-i386-pvgrub  1 build-check(1)               blocked  n/a
 test-amd64-i386-qemuu-rhel6hvm-amd  1 build-check(1)               blocked n/a
 test-amd64-amd64-xl-qemut-ws16-amd64  1 build-check(1)             blocked n/a
 test-amd64-i386-xl-qemuu-debianhvm-amd64-shadow  1 build-check(1)  blocked n/a
 build-armhf-libvirt           1 build-check(1)               blocked  n/a
 test-amd64-amd64-xl-qemuu-ws16-amd64  1 build-check(1)             blocked n/a
 test-amd64-amd64-libvirt-pair  1 build-check(1)               blocked  n/a
 test-amd64-i386-libvirt       1 build-check(1)               blocked  n/a
 test-amd64-amd64-xl-pvhv2-intel  1 build-check(1)               blocked  n/a
 test-armhf-armhf-xl           1 build-check(1)               blocked  n/a
 test-armhf-armhf-examine      1 build-check(1)               blocked  n/a
 test-amd64-amd64-libvirt-xsm  1 build-check(1)               blocked  n/a
 test-amd64-amd64-xl-xsm       1 build-check(1)               blocked  n/a
 test-amd64-i386-xl-shadow     1 build-check(1)               blocked  n/a
 test-amd64-i386-qemuu-rhel6hvm-intel  1 build-check(1)             blocked n/a
 test-armhf-armhf-xl-vhd       1 build-check(1)               blocked  n/a
 test-amd64-i386-xl-qemuu-win7-amd64  1 build-check(1)              blocked n/a
 test-amd64-amd64-xl-qemuu-dmrestrict-amd64-dmrestrict 1 build-check(1) blocked 
n/a
 test-amd64-amd64-xl           1 build-check(1)               blocked  n/a
 test-amd64-amd64-xl-qemuu-debianhvm-amd64-shadow  1 build-check(1) blocked n/a
 test-amd64-i386-pair          1 build-check(1)               blocked  n/a
 test-amd64-i386-rumprun-i386  1 build-check(1)               blocked  n/a
 test-amd64-amd64-xl-pvhv2-amd  1 build-check(1)               blocked  n/a
 test-amd64-amd64-qemuu-nested-amd  1 build-check(1)               blocked  n/a
 test-amd64-i386-xl-qemut-stubdom-debianhvm-amd64-xsm 1 build-check(1) blocked 
n/a
 test-amd64-i386-xl-qemut-win7-amd64  1 build-check(1)              blocked n/a
 test-amd64-i386-qemut-rhel6hvm-amd  1 build-check(1)               blocked n/a
 test-amd64-amd64-examine      1 build-check(1)               blocked  n/a
 test-armhf-armhf-xl-rtds      1 build-check(1)               blocked  n/a
 test-amd64-amd64-xl-qemut-debianhvm-amd64-xsm  1 build-check(1)    blocked n/a
 test-amd64-amd64-xl-qemut-debianhvm-amd64  1 build-check(1)        blocked n/a
 test-amd64-amd64-xl-rtds      1 build-check(1)               blocked  n/a

version targeted for testing:
 linux                ba6984fc0162f24a510ebc34e881b546b69c553b
baseline version:
 linux                a5f9be3576c3f9dd871f68eaf482278c0b3a6df2

Last test of basis    75151  2018-08-31 19:57:42 Z    7 days
Testing same since    75173  2018-09-07 16:25:10 Z    0 days    1 attempts

------------------------------------------------------------
People who touched revisions under test:
  Andrew Morton <a...@linux-foundation.org>
  Andrey Ryabinin <aryabi...@virtuozzo.com>
  Bart Van Assche <bart.vanass...@wdc.com>
  Bernd Edlinger <bernd.edlin...@hotmail.de>
  Calvin Walton <calvin.wal...@kepstin.ca>
  chen jie <chenj...@huawei.com>
  Christoffer Dall <christoffer.d...@arm.com>
  Claudio Imbrenda <imbre...@linux.vnet.ibm.com>
  Colin Ian King <colin.k...@canonical.com>
  Dan Carpenter <dan.carpen...@oracle.com>
  Dan Streetman <ddstr...@ieee.org>
  Dave Airlie <airl...@redhat.com>
  David Howells <dhowe...@redhat.com>
  David S. Miller <da...@davemloft.net>
  David Sterba <dste...@suse.com>
  Dong Aisheng <aisheng.d...@nxp.com>
  Eric Sandeen <sand...@redhat.com>
  Ethan Zhao <ethan.z...@oracle.com>
  Eugeniu Rosca <ero...@de.adit-jv.com>
  Eugeniu Rosca <roscaeuge...@gmail.com>
  Felipe Balbi <felipe.ba...@linux.intel.com>
  Florian Westphal <f...@strlen.de>
  Govindarajulu Varadarajan <gvara...@cisco.com>
  Greg Hackmann <ghackm...@android.com>
  Greg Hackmann <ghackm...@google.com>
  Greg Kroah-Hartman <gre...@linuxfoundation.org>
  Guenter Roeck <li...@roeck-us.net>
  Gustavo A. R. Silva <gust...@embeddedor.com>
  Heiko Carstens <heiko.carst...@de.ibm.com>
  Ingo Molnar <mi...@kernel.org>
  Jens Axboe <ax...@kernel.dk>
  Jia-Ju Bai <baijiaju1...@gmail.com>
  jie@chenj...@huwei.com <jie@chenj...@huwei.com>
  Jim Gill <jg...@vmware.com>
  Johannes Berg <johannes.b...@intel.com>
  Johannes Thumshirn <jthumsh...@suse.de>
  Josef Bacik <jo...@toxicpanda.com>
  Julian Wiedmann <j...@linux.ibm.com>
  Kiran Kumar Modukuri <kiran.moduk...@gmail.com>
  Kirill Tkhai <ktk...@virtuozzo.com>
  Len Brown <len.br...@intel.com>
  Li Wang <liw...@redhat.com>
  Linus Torvalds <torva...@linux-foundation.org>
  Linus Walleij <linus.wall...@linaro.org>
  Lucas Stach <l.st...@pengutronix.de>
  Maciej W. Rozycki <ma...@mips.com>
  Manikanta Pubbisetty <mpubb...@codeaurora.org>
  Marc Kleine-Budde <m...@pengutronix.de>
  Marc Zyngier <marc.zyng...@arm.com>
  Mark Brown <broo...@kernel.org>
  Martin K. Petersen <martin.peter...@oracle.com>
  Martin Schwidefsky <schwidef...@de.ibm.com>
  Masami Hiramatsu <mhira...@kernel.org>
  Miklos Szeredi <mszer...@redhat.com>
  Mikulas Patocka <mpato...@redhat.com>
  mpubb...@codeaurora.org <mpubb...@codeaurora.org>
  Nicholas Mc Guire <hof...@osadl.org>
  Paul Burton <paul.bur...@mips.com>
  Paul Moore <p...@paul-moore.com>
  Peter Senna Tschudin <peter.se...@gmail.com>
  Peter Zijlstra (Intel) <pet...@infradead.org>
  Philipp Zabel <p.za...@pengutronix.de>
  Punit Agrawal <punit.agra...@arm.com>
  Rafał Miłecki <ra...@milecki.pl>
  Randy Dunlap <rdun...@infradead.org>
  Rian Hunter <r...@alum.mit.edu>
  Sasha Levin <alexander.le...@microsoft.com>
  Scott Bauer <sba...@plzdonthack.me>
  Scott Bauer <scott.ba...@intel.com>
  Sebastian Ott <seb...@linux.ibm.com>
  Shubhrajyoti Datta <shubhrajyoti.da...@xilinx.com>
  Steffen Klassert <steffen.klass...@secunet.com>
  Steven Rostedt (VMware) <rost...@goodmis.org>
  Sudarsana Reddy Kalluru <sudarsana.kall...@cavium.com>
  Tejun Heo <t...@kernel.org>
  Theodore Ts'o <ty...@mit.edu>
  Thomas Gleixner <t...@linutronix.de>
  Tommi Rantala <tommi.t.rant...@nokia.com>
  Varun Prakash <va...@chelsio.com>
  Vineet Gupta <vgu...@synopsys.com>
  Will Deacon <will.dea...@arm.com>
  YueHaibing <yuehaib...@huawei.com>
  yujuan.qi <yujuan...@mediatek.com>

jobs:
 build-amd64-xsm                                              broken  
 build-i386-xsm                                               broken  
 build-amd64                                                  broken  
 build-armhf                                                  broken  
 build-i386                                                   broken  
 build-amd64-libvirt                                          blocked 
 build-armhf-libvirt                                          blocked 
 build-i386-libvirt                                           blocked 
 build-amd64-pvops                                            broken  
 build-armhf-pvops                                            broken  
 build-i386-pvops                                             broken  
 build-amd64-rumprun                                          blocked 
 build-i386-rumprun                                           blocked 
 test-amd64-amd64-xl                                          blocked 
 test-armhf-armhf-xl                                          blocked 
 test-amd64-i386-xl                                           blocked 
 test-amd64-amd64-xl-qemut-debianhvm-amd64-xsm                blocked 
 test-amd64-i386-xl-qemut-debianhvm-amd64-xsm                 blocked 
 test-amd64-amd64-libvirt-qemuu-debianhvm-amd64-xsm           blocked 
 test-amd64-i386-libvirt-qemuu-debianhvm-amd64-xsm            blocked 
 test-amd64-amd64-xl-qemuu-debianhvm-amd64-xsm                blocked 
 test-amd64-i386-xl-qemuu-debianhvm-amd64-xsm                 blocked 
 test-amd64-amd64-xl-qemut-stubdom-debianhvm-amd64-xsm        blocked 
 test-amd64-i386-xl-qemut-stubdom-debianhvm-amd64-xsm         blocked 
 test-amd64-amd64-libvirt-xsm                                 blocked 
 test-amd64-i386-libvirt-xsm                                  blocked 
 test-amd64-amd64-xl-xsm                                      blocked 
 test-amd64-i386-xl-xsm                                       blocked 
 test-amd64-amd64-qemuu-nested-amd                            blocked 
 test-amd64-amd64-xl-pvhv2-amd                                blocked 
 test-amd64-i386-qemut-rhel6hvm-amd                           blocked 
 test-amd64-i386-qemuu-rhel6hvm-amd                           blocked 
 test-amd64-amd64-xl-qemut-debianhvm-amd64                    blocked 
 test-amd64-i386-xl-qemut-debianhvm-amd64                     blocked 
 test-amd64-amd64-xl-qemuu-debianhvm-amd64                    blocked 
 test-amd64-i386-xl-qemuu-debianhvm-amd64                     blocked 
 test-amd64-i386-freebsd10-amd64                              blocked 
 test-amd64-amd64-xl-qemuu-ovmf-amd64                         blocked 
 test-amd64-i386-xl-qemuu-ovmf-amd64                          blocked 
 test-amd64-amd64-rumprun-amd64                               blocked 
 test-amd64-amd64-xl-qemut-win7-amd64                         blocked 
 test-amd64-i386-xl-qemut-win7-amd64                          blocked 
 test-amd64-amd64-xl-qemuu-win7-amd64                         blocked 
 test-amd64-i386-xl-qemuu-win7-amd64                          blocked 
 test-amd64-amd64-xl-qemut-ws16-amd64                         blocked 
 test-amd64-i386-xl-qemut-ws16-amd64                          blocked 
 test-amd64-amd64-xl-qemuu-ws16-amd64                         blocked 
 test-amd64-i386-xl-qemuu-ws16-amd64                          blocked 
 test-amd64-amd64-xl-credit2                                  blocked 
 test-armhf-armhf-xl-credit2                                  blocked 
 test-amd64-amd64-xl-qemuu-dmrestrict-amd64-dmrestrict        blocked 
 test-amd64-i386-xl-qemuu-dmrestrict-amd64-dmrestrict         blocked 
 test-amd64-amd64-examine                                     blocked 
 test-armhf-armhf-examine                                     blocked 
 test-amd64-i386-examine                                      blocked 
 test-amd64-i386-freebsd10-i386                               blocked 
 test-amd64-i386-rumprun-i386                                 blocked 
 test-amd64-amd64-xl-qemut-win10-i386                         blocked 
 test-amd64-i386-xl-qemut-win10-i386                          blocked 
 test-amd64-amd64-xl-qemuu-win10-i386                         blocked 
 test-amd64-i386-xl-qemuu-win10-i386                          blocked 
 test-amd64-amd64-qemuu-nested-intel                          blocked 
 test-amd64-amd64-xl-pvhv2-intel                              blocked 
 test-amd64-i386-qemut-rhel6hvm-intel                         blocked 
 test-amd64-i386-qemuu-rhel6hvm-intel                         blocked 
 test-amd64-amd64-libvirt                                     blocked 
 test-armhf-armhf-libvirt                                     blocked 
 test-amd64-i386-libvirt                                      blocked 
 test-armhf-armhf-xl-midway                                   blocked 
 test-amd64-amd64-xl-multivcpu                                blocked 
 test-armhf-armhf-xl-multivcpu                                blocked 
 test-amd64-amd64-pair                                        blocked 
 test-amd64-i386-pair                                         blocked 
 test-amd64-amd64-libvirt-pair                                blocked 
 test-amd64-i386-libvirt-pair                                 blocked 
 test-amd64-amd64-amd64-pvgrub                                blocked 
 test-amd64-amd64-i386-pvgrub                                 blocked 
 test-amd64-amd64-xl-pvshim                                   blocked 
 test-amd64-i386-xl-pvshim                                    blocked 
 test-amd64-amd64-pygrub                                      blocked 
 test-amd64-amd64-xl-qcow2                                    blocked 
 test-armhf-armhf-libvirt-raw                                 blocked 
 test-amd64-i386-xl-raw                                       blocked 
 test-amd64-amd64-xl-rtds                                     blocked 
 test-armhf-armhf-xl-rtds                                     blocked 
 test-amd64-amd64-xl-qemuu-debianhvm-amd64-shadow             blocked 
 test-amd64-i386-xl-qemuu-debianhvm-amd64-shadow              blocked 
 test-amd64-amd64-xl-shadow                                   blocked 
 test-amd64-i386-xl-shadow                                    blocked 
 test-amd64-amd64-libvirt-vhd                                 blocked 
 test-armhf-armhf-xl-vhd                                      blocked 


------------------------------------------------------------
sg-report-flight on osstest.xs.citrite.net
logs: /home/osstest/logs
images: /home/osstest/images

Logs, config files, etc. are available at
    http://osstest.xensource.com/osstest/logs

Test harness code can be found at
    http://xenbits.xensource.com/gitweb?p=osstest.git;a=summary

broken-job build-amd64 broken
broken-job build-i386 broken
broken-job build-armhf-pvops broken
broken-job build-i386-xsm broken
broken-job build-amd64-xsm broken
broken-job build-amd64-pvops broken
broken-job build-i386-pvops broken
broken-job build-armhf broken
broken-step build-armhf-pvops host-install(4)
broken-step build-armhf host-install(4)
broken-step build-i386-pvops host-install(4)
broken-step build-amd64 host-install(4)
broken-step build-amd64-pvops host-install(4)
broken-step build-amd64-xsm host-install(4)
broken-step build-i386-xsm host-install(4)
broken-step build-i386 host-install(4)

Push not applicable.

(No revision log; it would be 1734 lines long.)

_______________________________________________
Xen-devel mailing list
Xen-devel@lists.xenproject.org
https://lists.xenproject.org/mailman/listinfo/xen-devel

Reply via email to