flight 127373 freebsd-master real [real]
http://logs.test-lab.xenproject.org/osstest/logs/127373/

Perfect :-)
All tests in this flight passed as required
version targeted for testing:
 freebsd              7b6d891a9f0e73952e081c2c41469cdeba34eea8
baseline version:
 freebsd              8846b8448acb98ba31b203ac6c2ad45be2b96ad9

Last test of basis   127033  2018-08-31 09:19:38 Z    7 days
Failing since        127207  2018-09-03 09:19:06 Z    4 days    3 attempts
Testing same since   127373  2018-09-07 09:18:57 Z    0 days    1 attempts

------------------------------------------------------------
People who touched revisions under test:
  alc <a...@freebsd.org>
  andrew <and...@freebsd.org>
  avatar <ava...@freebsd.org>
  br <b...@freebsd.org>
  brd <b...@freebsd.org>
  brooks <bro...@freebsd.org>
  bwidawsk <bwida...@freebsd.org>
  bz <b...@freebsd.org>
  des <d...@freebsd.org>
  eugen <eu...@freebsd.org>
  gjb <g...@freebsd.org>
  hselasky <hsela...@freebsd.org>
  imp <i...@freebsd.org>
  jhb <j...@freebsd.org>
  jilles <jil...@freebsd.org>
  kbowling <kbowl...@freebsd.org>
  kevans <kev...@freebsd.org>
  kib <k...@freebsd.org>
  kp <k...@freebsd.org>
  leitao <lei...@freebsd.org>
  manu <m...@freebsd.org>
  marius <mar...@freebsd.org>
  markj <ma...@freebsd.org>
  mav <m...@freebsd.org>
  mckusick <mckus...@freebsd.org>
  mjg <m...@freebsd.org>
  obrien <obr...@freebsd.org>
  rwatson <rwat...@freebsd.org>
  shurd <sh...@freebsd.org>
  slavash <slav...@freebsd.org>
  trasz <tr...@freebsd.org>
  wulf <w...@freebsd.org>

jobs:
 build-amd64-freebsd-again                                    pass    
 build-amd64-freebsd                                          pass    
 build-amd64-xen-freebsd                                      pass    


------------------------------------------------------------
sg-report-flight on osstest.test-lab.xenproject.org
logs: /home/logs/logs
images: /home/logs/images

Logs, config files, etc. are available at
    http://logs.test-lab.xenproject.org/osstest/logs

Explanation of these reports, and of osstest in general, is at
    http://xenbits.xen.org/gitweb/?p=osstest.git;a=blob;f=README.email;hb=master
    http://xenbits.xen.org/gitweb/?p=osstest.git;a=blob;f=README;hb=master

Test harness code can be found at
    http://xenbits.xen.org/gitweb?p=osstest.git;a=summary


Pushing revision :

To xenbits.xen.org:/home/xen/git/freebsd.git
   8846b8448ac..7b6d891a9f0  7b6d891a9f0e73952e081c2c41469cdeba34eea8 -> 
tested/master

_______________________________________________
Xen-devel mailing list
Xen-devel@lists.xenproject.org
https://lists.xenproject.org/mailman/listinfo/xen-devel

Reply via email to