flight 125150 freebsd-master real [real] http://logs.test-lab.xenproject.org/osstest/logs/125150/
Perfect :-) All tests in this flight passed as required version targeted for testing: freebsd 414774b7931d98c2bc5f42317ea69c8a32eebc6e baseline version: freebsd 784d607328d1205ced136be9f87c76ee51bcac5e Last test of basis 125104 2018-07-11 09:18:44 Z 2 days Testing same since 125150 2018-07-13 09:18:49 Z 0 days 1 attempts ------------------------------------------------------------ People who touched revisions under test: ae <a...@freebsd.org> asomers <asom...@freebsd.org> cy <c...@freebsd.org> delphij <delp...@freebsd.org> dim <d...@freebsd.org> erj <e...@freebsd.org> eugen <eu...@freebsd.org> ian <i...@freebsd.org> imp <i...@freebsd.org> kevans <kev...@freebsd.org> kp <k...@freebsd.org> markj <ma...@freebsd.org> mjg <m...@freebsd.org> rmacklem <rmack...@freebsd.org> sbruno <sbr...@freebsd.org> trasz <tr...@freebsd.org> trociny <troc...@freebsd.org> jobs: build-amd64-freebsd-again pass build-amd64-freebsd pass ------------------------------------------------------------ sg-report-flight on osstest.test-lab.xenproject.org logs: /home/logs/logs images: /home/logs/images Logs, config files, etc. are available at http://logs.test-lab.xenproject.org/osstest/logs Explanation of these reports, and of osstest in general, is at http://xenbits.xen.org/gitweb/?p=osstest.git;a=blob;f=README.email;hb=master http://xenbits.xen.org/gitweb/?p=osstest.git;a=blob;f=README;hb=master Test harness code can be found at http://xenbits.xen.org/gitweb?p=osstest.git;a=summary Pushing revision : To xenbits.xen.org:/home/xen/git/freebsd.git 784d607328d..414774b7931 414774b7931d98c2bc5f42317ea69c8a32eebc6e -> tested/master _______________________________________________ Xen-devel mailing list Xen-devel@lists.xenproject.org https://lists.xenproject.org/mailman/listinfo/xen-devel