flight 125104 freebsd-master real [real] http://logs.test-lab.xenproject.org/osstest/logs/125104/
Perfect :-) All tests in this flight passed as required version targeted for testing: freebsd 784d607328d1205ced136be9f87c76ee51bcac5e baseline version: freebsd 22dad49e0cc4b54f18127cf74d71dd8967458ac8 Last test of basis 125060 2018-07-09 09:19:03 Z 2 days Testing same since 125104 2018-07-11 09:18:44 Z 0 days 1 attempts ------------------------------------------------------------ People who touched revisions under test: ae <a...@freebsd.org> alc <a...@freebsd.org> araujo <ara...@freebsd.org> bdrewery <bdrew...@freebsd.org> brooks <bro...@freebsd.org> bwidawsk <bwida...@freebsd.org> cy <c...@freebsd.org> dab <d...@freebsd.org> daichi <dai...@freebsd.org> delphij <delp...@freebsd.org> garga <ga...@freebsd.org> gonzo <go...@freebsd.org> ian <i...@freebsd.org> imp <i...@freebsd.org> jhibbits <jhibb...@freebsd.org> kevans <kev...@freebsd.org> kib <k...@freebsd.org> manu <m...@freebsd.org> markj <ma...@freebsd.org> np <n...@freebsd.org> pfg <p...@freebsd.org> rmacklem <rmack...@freebsd.org> sef <s...@freebsd.org> smh <s...@freebsd.org> tuexen <tue...@freebsd.org> wma <w...@freebsd.org> jobs: build-amd64-freebsd-again pass build-amd64-freebsd pass ------------------------------------------------------------ sg-report-flight on osstest.test-lab.xenproject.org logs: /home/logs/logs images: /home/logs/images Logs, config files, etc. are available at http://logs.test-lab.xenproject.org/osstest/logs Explanation of these reports, and of osstest in general, is at http://xenbits.xen.org/gitweb/?p=osstest.git;a=blob;f=README.email;hb=master http://xenbits.xen.org/gitweb/?p=osstest.git;a=blob;f=README;hb=master Test harness code can be found at http://xenbits.xen.org/gitweb?p=osstest.git;a=summary Pushing revision : To xenbits.xen.org:/home/xen/git/freebsd.git 22dad49e0cc..784d607328d 784d607328d1205ced136be9f87c76ee51bcac5e -> tested/master _______________________________________________ Xen-devel mailing list Xen-devel@lists.xenproject.org https://lists.xenproject.org/mailman/listinfo/xen-devel