flight 124920 ovmf real [real]
http://logs.test-lab.xenproject.org/osstest/logs/124920/

Perfect :-)
All tests in this flight passed as required
version targeted for testing:
 ovmf                 aa4240edff41034d709938a15b42cf4fd3214386
baseline version:
 ovmf                 3b03b5e990f8bb347dfdb91926d8ef015d0b607e

Last test of basis   124618  2018-06-22 19:10:57 Z   10 days
Failing since        124675  2018-06-24 23:40:15 Z    8 days   10 attempts
Testing same since   124920  2018-07-02 15:41:35 Z    1 days    1 attempts

------------------------------------------------------------
People who touched revisions under test:
  Bi, Dandan <dandan...@intel.com>
  Chao Zhang <chao.b.zh...@intel.com>
  Chasel Chiu <chasel.c...@intel.com>
  Chasel, Chiu <chasel.c...@intel.com>
  Chen A Chen <chen.a.c...@intel.com>
  chenc2 <chen.a.c...@intel.com>
  Dandan Bi <dandan...@intel.com>
  dann frazier <da...@debian.org>
  Fu Siyuan <siyuan...@intel.com>
  Gary Lin <g...@suse.com>
  Hao Wu <hao.a...@intel.com>
  Hong-chihX Hsueh <hong-chihx.hs...@intel.com>
  Jaben Carsey <jaben.car...@intel.com>
  Liming Gao <liming....@intel.com>
  Michael D Kinney <michael.d.kin...@intel.com>
  Sami Mujawar <sami.muja...@arm.com>
  Star Zeng <star.z...@intel.com>
  Thomas Palmer <thomas.pal...@hpe.com>
  Xu WeiX <weix...@intel.com>
  Yunhua Feng <yunhuax.f...@intel.com>
  Zhang, Chao B <chao.b.zh...@intel.com>

jobs:
 build-amd64-xsm                                              pass    
 build-i386-xsm                                               pass    
 build-amd64                                                  pass    
 build-i386                                                   pass    
 build-amd64-libvirt                                          pass    
 build-i386-libvirt                                           pass    
 build-amd64-pvops                                            pass    
 build-i386-pvops                                             pass    
 test-amd64-amd64-xl-qemuu-ovmf-amd64                         pass    
 test-amd64-i386-xl-qemuu-ovmf-amd64                          pass    


------------------------------------------------------------
sg-report-flight on osstest.test-lab.xenproject.org
logs: /home/logs/logs
images: /home/logs/images

Logs, config files, etc. are available at
    http://logs.test-lab.xenproject.org/osstest/logs

Explanation of these reports, and of osstest in general, is at
    http://xenbits.xen.org/gitweb/?p=osstest.git;a=blob;f=README.email;hb=master
    http://xenbits.xen.org/gitweb/?p=osstest.git;a=blob;f=README;hb=master

Test harness code can be found at
    http://xenbits.xen.org/gitweb?p=osstest.git;a=summary


Pushing revision :

To xenbits.xen.org:/home/xen/git/osstest/ovmf.git
   3b03b5e990..aa4240edff  aa4240edff41034d709938a15b42cf4fd3214386 -> 
xen-tested-master

_______________________________________________
Xen-devel mailing list
Xen-devel@lists.xenproject.org
https://lists.xenproject.org/mailman/listinfo/xen-devel

Reply via email to