flight 124909 freebsd-master real [real]
http://logs.test-lab.xenproject.org/osstest/logs/124909/

Perfect :-)
All tests in this flight passed as required
version targeted for testing:
 freebsd              877de141ef18a3ef2ad631f2342353a2eb55f4aa
baseline version:
 freebsd              9c9640b12edcbc6f475bf062d68eb6d062a118aa

Last test of basis   124883  2018-06-30 17:57:15 Z    2 days
Testing same since   124909  2018-07-02 05:09:50 Z    1 days    1 attempts

------------------------------------------------------------
People who touched revisions under test:
  asomers <asom...@freebsd.org>
  bdrewery <bdrew...@freebsd.org>
  daichi <dai...@freebsd.org>
  eadler <ead...@freebsd.org>
  gonzo <go...@freebsd.org>
  imp <i...@freebsd.org>
  kp <k...@freebsd.org>
  maxim <ma...@freebsd.org>
  mmacy <mm...@freebsd.org>
  oshogbo <osho...@freebsd.org>
  rmacklem <rmack...@freebsd.org>
  trasz <tr...@freebsd.org>
  will <w...@freebsd.org>
  wosch <wo...@freebsd.org>

jobs:
 build-amd64-freebsd-again                                    pass    
 build-amd64-freebsd                                          pass    


------------------------------------------------------------
sg-report-flight on osstest.test-lab.xenproject.org
logs: /home/logs/logs
images: /home/logs/images

Logs, config files, etc. are available at
    http://logs.test-lab.xenproject.org/osstest/logs

Explanation of these reports, and of osstest in general, is at
    http://xenbits.xen.org/gitweb/?p=osstest.git;a=blob;f=README.email;hb=master
    http://xenbits.xen.org/gitweb/?p=osstest.git;a=blob;f=README;hb=master

Test harness code can be found at
    http://xenbits.xen.org/gitweb?p=osstest.git;a=summary


Pushing revision :

To xenbits.xen.org:/home/xen/git/freebsd.git
   9c9640b12ed..877de141ef1  877de141ef18a3ef2ad631f2342353a2eb55f4aa -> 
tested/master

_______________________________________________
Xen-devel mailing list
Xen-devel@lists.xenproject.org
https://lists.xenproject.org/mailman/listinfo/xen-devel

Reply via email to