flight 124883 freebsd-master real [real] http://logs.test-lab.xenproject.org/osstest/logs/124883/
Perfect :-) All tests in this flight passed as required version targeted for testing: freebsd 9c9640b12edcbc6f475bf062d68eb6d062a118aa baseline version: freebsd 0a8d0ed4e54a09aae844be71327941cf3cd401a5 Last test of basis 124824 2018-06-29 05:21:06 Z 2 days Testing same since 124883 2018-06-30 17:57:15 Z 1 days 1 attempts ------------------------------------------------------------ People who touched revisions under test: ae <a...@freebsd.org> arichardson <arichard...@freebsd.org> br <b...@freebsd.org> brooks <bro...@freebsd.org> dim <d...@freebsd.org> eadler <ead...@freebsd.org> emaste <ema...@freebsd.org> jhibbits <jhibb...@freebsd.org> jkim <j...@freebsd.org> kp <k...@freebsd.org> mckusick <mckus...@freebsd.org> rmacklem <rmack...@freebsd.org> jobs: build-amd64-freebsd-again pass build-amd64-freebsd pass ------------------------------------------------------------ sg-report-flight on osstest.test-lab.xenproject.org logs: /home/logs/logs images: /home/logs/images Logs, config files, etc. are available at http://logs.test-lab.xenproject.org/osstest/logs Explanation of these reports, and of osstest in general, is at http://xenbits.xen.org/gitweb/?p=osstest.git;a=blob;f=README.email;hb=master http://xenbits.xen.org/gitweb/?p=osstest.git;a=blob;f=README;hb=master Test harness code can be found at http://xenbits.xen.org/gitweb?p=osstest.git;a=summary Pushing revision : To xenbits.xen.org:/home/xen/git/freebsd.git 0a8d0ed4e54..9c9640b12ed 9c9640b12edcbc6f475bf062d68eb6d062a118aa -> tested/master _______________________________________________ Xen-devel mailing list Xen-devel@lists.xenproject.org https://lists.xenproject.org/mailman/listinfo/xen-devel