flight 124774 freebsd-master real [real]
http://logs.test-lab.xenproject.org/osstest/logs/124774/

Perfect :-)
All tests in this flight passed as required
version targeted for testing:
 freebsd              dc8d1c8d510a5d49b6f34be982c51b0ed8005048
baseline version:
 freebsd              d27905c3a3df138b9b6c6d0eade689ecb13706fc

Last test of basis   124766  2018-06-27 16:11:00 Z    0 days
Failing since        124770  2018-06-27 20:41:03 Z    0 days    2 attempts
Testing same since   124774  2018-06-28 02:23:49 Z    0 days    1 attempts

------------------------------------------------------------
People who touched revisions under test:
  bdrewery <bdrew...@freebsd.org>
  brd <b...@freebsd.org>
  dteske <dte...@freebsd.org>
  gjb <g...@freebsd.org>
  glebius <gleb...@freebsd.org>
  imp <i...@freebsd.org>
  jhb <j...@freebsd.org>
  trasz <tr...@freebsd.org>

jobs:
 build-amd64-freebsd-again                                    pass    
 build-amd64-freebsd                                          pass    


------------------------------------------------------------
sg-report-flight on osstest.test-lab.xenproject.org
logs: /home/logs/logs
images: /home/logs/images

Logs, config files, etc. are available at
    http://logs.test-lab.xenproject.org/osstest/logs

Explanation of these reports, and of osstest in general, is at
    http://xenbits.xen.org/gitweb/?p=osstest.git;a=blob;f=README.email;hb=master
    http://xenbits.xen.org/gitweb/?p=osstest.git;a=blob;f=README;hb=master

Test harness code can be found at
    http://xenbits.xen.org/gitweb?p=osstest.git;a=summary


Pushing revision :

To xenbits.xen.org:/home/xen/git/freebsd.git
   d27905c3a3d..dc8d1c8d510  dc8d1c8d510a5d49b6f34be982c51b0ed8005048 -> 
tested/master

_______________________________________________
Xen-devel mailing list
Xen-devel@lists.xenproject.org
https://lists.xenproject.org/mailman/listinfo/xen-devel

Reply via email to