flight 124724 freebsd-master real [real]
http://logs.test-lab.xenproject.org/osstest/logs/124724/

Perfect :-)
All tests in this flight passed as required
version targeted for testing:
 freebsd              120832ac318f335dedfba859043b74375bba5e51
baseline version:
 freebsd              a550f635ac0ec8163d698717f0e31b9a7f998ef3

Last test of basis   124708  2018-06-25 22:10:33 Z    0 days
Testing same since   124724  2018-06-26 07:42:35 Z    0 days    1 attempts

------------------------------------------------------------
People who touched revisions under test:
  andrew <and...@freebsd.org>
  imp <i...@freebsd.org>
  jhibbits <jhibb...@freebsd.org>
  kevans <kev...@freebsd.org>

jobs:
 build-amd64-freebsd-again                                    pass    
 build-amd64-freebsd                                          pass    


------------------------------------------------------------
sg-report-flight on osstest.test-lab.xenproject.org
logs: /home/logs/logs
images: /home/logs/images

Logs, config files, etc. are available at
    http://logs.test-lab.xenproject.org/osstest/logs

Explanation of these reports, and of osstest in general, is at
    http://xenbits.xen.org/gitweb/?p=osstest.git;a=blob;f=README.email;hb=master
    http://xenbits.xen.org/gitweb/?p=osstest.git;a=blob;f=README;hb=master

Test harness code can be found at
    http://xenbits.xen.org/gitweb?p=osstest.git;a=summary


Pushing revision :

To xenbits.xen.org:/home/xen/git/freebsd.git
   a550f635ac0..120832ac318  120832ac318f335dedfba859043b74375bba5e51 -> 
tested/master

_______________________________________________
Xen-devel mailing list
Xen-devel@lists.xenproject.org
https://lists.xenproject.org/mailman/listinfo/xen-devel

Reply via email to