flight 187222 ovmf real [real]
http://logs.test-lab.xenproject.org/osstest/logs/187222/

Perfect :-)
All tests in this flight passed as required
version targeted for testing:
 ovmf                 b158dad150bf02879668f72ce306445250838201
baseline version:
 ovmf                 b0f43dd3fdec2363e3548ec31eb455dc1c4ac761

Last test of basis   187187  2024-08-08 01:56:57 Z    5 days
Testing same since   187222  2024-08-13 05:11:34 Z    0 days    1 attempts

------------------------------------------------------------
People who touched revisions under test:
  Ashraf Ali <ashraf.al...@intel.com>

jobs:
 build-amd64-xsm                                              pass    
 build-i386-xsm                                               pass    
 build-amd64                                                  pass    
 build-i386                                                   pass    
 build-amd64-libvirt                                          pass    
 build-i386-libvirt                                           pass    
 build-amd64-pvops                                            pass    
 build-i386-pvops                                             pass    
 test-amd64-amd64-xl-qemuu-ovmf-amd64                         pass    


------------------------------------------------------------
sg-report-flight on osstest.test-lab.xenproject.org
logs: /home/logs/logs
images: /home/logs/images

Logs, config files, etc. are available at
    http://logs.test-lab.xenproject.org/osstest/logs

Explanation of these reports, and of osstest in general, is at
    http://xenbits.xen.org/gitweb/?p=osstest.git;a=blob;f=README.email;hb=master
    http://xenbits.xen.org/gitweb/?p=osstest.git;a=blob;f=README;hb=master

Test harness code can be found at
    http://xenbits.xen.org/gitweb?p=osstest.git;a=summary


Pushing revision :

To xenbits.xen.org:/home/xen/git/osstest/ovmf.git
   b0f43dd3fd..b158dad150  b158dad150bf02879668f72ce306445250838201 -> 
xen-tested-master

Reply via email to