flight 186962 ovmf real [real] http://logs.test-lab.xenproject.org/osstest/logs/186962/
Perfect :-) All tests in this flight passed as required version targeted for testing: ovmf 46eb0ca29bf6bd84381af8506e0d9b1755f767d9 baseline version: ovmf c5ab17430b2579dd79e3cbd497b8b9deccd34abc Last test of basis 186961 2024-07-23 06:15:52 Z 0 days Testing same since 186962 2024-07-23 08:46:52 Z 0 days 1 attempts ------------------------------------------------------------ People who touched revisions under test: Shenbagadevi R <shenbagade...@ami.com> jobs: build-amd64-xsm pass build-i386-xsm pass build-amd64 pass build-i386 pass build-amd64-libvirt pass build-i386-libvirt pass build-amd64-pvops pass build-i386-pvops pass test-amd64-amd64-xl-qemuu-ovmf-amd64 pass ------------------------------------------------------------ sg-report-flight on osstest.test-lab.xenproject.org logs: /home/logs/logs images: /home/logs/images Logs, config files, etc. are available at http://logs.test-lab.xenproject.org/osstest/logs Explanation of these reports, and of osstest in general, is at http://xenbits.xen.org/gitweb/?p=osstest.git;a=blob;f=README.email;hb=master http://xenbits.xen.org/gitweb/?p=osstest.git;a=blob;f=README;hb=master Test harness code can be found at http://xenbits.xen.org/gitweb?p=osstest.git;a=summary Pushing revision : To xenbits.xen.org:/home/xen/git/osstest/ovmf.git c5ab17430b..46eb0ca29b 46eb0ca29bf6bd84381af8506e0d9b1755f767d9 -> xen-tested-master