flight 186539 ovmf real [real] http://logs.test-lab.xenproject.org/osstest/logs/186539/
Perfect :-) All tests in this flight passed as required version targeted for testing: ovmf a5f147b2a31c093cc83a3f10cdda529c6b59799b baseline version: ovmf 6862b9d538d96363635677198899e1669e591259 Last test of basis 186536 2024-06-27 15:41:23 Z 0 days Testing same since 186539 2024-06-27 21:14:54 Z 0 days 1 attempts ------------------------------------------------------------ People who touched revisions under test: dependabot[bot] <49699333+dependabot[bot]@users.noreply.github.com> dependabot[bot] <supp...@github.com> jobs: build-amd64-xsm pass build-i386-xsm pass build-amd64 pass build-i386 pass build-amd64-libvirt pass build-i386-libvirt pass build-amd64-pvops pass build-i386-pvops pass test-amd64-amd64-xl-qemuu-ovmf-amd64 pass ------------------------------------------------------------ sg-report-flight on osstest.test-lab.xenproject.org logs: /home/logs/logs images: /home/logs/images Logs, config files, etc. are available at http://logs.test-lab.xenproject.org/osstest/logs Explanation of these reports, and of osstest in general, is at http://xenbits.xen.org/gitweb/?p=osstest.git;a=blob;f=README.email;hb=master http://xenbits.xen.org/gitweb/?p=osstest.git;a=blob;f=README;hb=master Test harness code can be found at http://xenbits.xen.org/gitweb?p=osstest.git;a=summary Pushing revision : To xenbits.xen.org:/home/xen/git/osstest/ovmf.git 6862b9d538..a5f147b2a3 a5f147b2a31c093cc83a3f10cdda529c6b59799b -> xen-tested-master