flight 186520 ovmf real [real] http://logs.test-lab.xenproject.org/osstest/logs/186520/
Perfect :-) All tests in this flight passed as required version targeted for testing: ovmf ae09721a65ab3294439f6fa233adaf3b897f702f baseline version: ovmf 89377ece8f1c7243d25fd84488dcd03e37b9e661 Last test of basis 186516 2024-06-26 12:41:06 Z 0 days Testing same since 186519 2024-06-26 16:43:15 Z 0 days 2 attempts ------------------------------------------------------------ People who touched revisions under test: Gaurav Pandya <gaurav.pan...@amd.com> jobs: build-amd64-xsm pass build-i386-xsm pass build-amd64 pass build-i386 pass build-amd64-libvirt pass build-i386-libvirt pass build-amd64-pvops pass build-i386-pvops pass test-amd64-amd64-xl-qemuu-ovmf-amd64 pass ------------------------------------------------------------ sg-report-flight on osstest.test-lab.xenproject.org logs: /home/logs/logs images: /home/logs/images Logs, config files, etc. are available at http://logs.test-lab.xenproject.org/osstest/logs Explanation of these reports, and of osstest in general, is at http://xenbits.xen.org/gitweb/?p=osstest.git;a=blob;f=README.email;hb=master http://xenbits.xen.org/gitweb/?p=osstest.git;a=blob;f=README;hb=master Test harness code can be found at http://xenbits.xen.org/gitweb?p=osstest.git;a=summary Pushing revision : To xenbits.xen.org:/home/xen/git/osstest/ovmf.git 89377ece8f..ae09721a65 ae09721a65ab3294439f6fa233adaf3b897f702f -> xen-tested-master