flight 186379 ovmf real [real] http://logs.test-lab.xenproject.org/osstest/logs/186379/
Perfect :-) All tests in this flight passed as required version targeted for testing: ovmf 9fc61309bf56aa7863e36b8f418a49ca6d8364d0 baseline version: ovmf 587100a95d7bfddc60bc5699ae0cca45914f1d81 Last test of basis 186378 2024-06-17 08:14:56 Z 0 days Testing same since 186379 2024-06-17 12:12:58 Z 0 days 1 attempts ------------------------------------------------------------ People who touched revisions under test: Jeff Brasen <jbra...@nvidia.com> jobs: build-amd64-xsm pass build-i386-xsm pass build-amd64 pass build-i386 pass build-amd64-libvirt pass build-i386-libvirt pass build-amd64-pvops pass build-i386-pvops pass test-amd64-amd64-xl-qemuu-ovmf-amd64 pass ------------------------------------------------------------ sg-report-flight on osstest.test-lab.xenproject.org logs: /home/logs/logs images: /home/logs/images Logs, config files, etc. are available at http://logs.test-lab.xenproject.org/osstest/logs Explanation of these reports, and of osstest in general, is at http://xenbits.xen.org/gitweb/?p=osstest.git;a=blob;f=README.email;hb=master http://xenbits.xen.org/gitweb/?p=osstest.git;a=blob;f=README;hb=master Test harness code can be found at http://xenbits.xen.org/gitweb?p=osstest.git;a=summary Pushing revision : To xenbits.xen.org:/home/xen/git/osstest/ovmf.git 587100a95d..9fc61309bf 9fc61309bf56aa7863e36b8f418a49ca6d8364d0 -> xen-tested-master