flight 185049 ovmf real [real] http://logs.test-lab.xenproject.org/osstest/logs/185049/
Perfect :-) All tests in this flight passed as required version targeted for testing: ovmf 3840c35e34d1c992268092b6366e26f2acc55a75 baseline version: ovmf ccbbc2a5c84a0330b28b726ef0936fc16937005a Last test of basis 185047 2024-03-15 09:11:16 Z 0 days Testing same since 185049 2024-03-15 12:41:10 Z 0 days 1 attempts ------------------------------------------------------------ People who touched revisions under test: Du Lin <du....@intel.com> jobs: build-amd64-xsm pass build-i386-xsm pass build-amd64 pass build-i386 pass build-amd64-libvirt pass build-i386-libvirt pass build-amd64-pvops pass build-i386-pvops pass test-amd64-amd64-xl-qemuu-ovmf-amd64 pass test-amd64-i386-xl-qemuu-ovmf-amd64 pass ------------------------------------------------------------ sg-report-flight on osstest.test-lab.xenproject.org logs: /home/logs/logs images: /home/logs/images Logs, config files, etc. are available at http://logs.test-lab.xenproject.org/osstest/logs Explanation of these reports, and of osstest in general, is at http://xenbits.xen.org/gitweb/?p=osstest.git;a=blob;f=README.email;hb=master http://xenbits.xen.org/gitweb/?p=osstest.git;a=blob;f=README;hb=master Test harness code can be found at http://xenbits.xen.org/gitweb?p=osstest.git;a=summary Pushing revision : To xenbits.xen.org:/home/xen/git/osstest/ovmf.git ccbbc2a5c8..3840c35e34 3840c35e34d1c992268092b6366e26f2acc55a75 -> xen-tested-master